BEGIN:VCALENDAR
VERSION:2.0
PRODID:-//ESSE Musicbar Winterthur//NONSGML kigkonsult.se iCalcreator 2.41.92//
CALSCALE:GREGORIAN
METHOD:PUBLISH
UID:34356337-3134-4230-b732-393932396366
X-WR-CALNAME:iCagenda
X-WR-CALDESC:Event Management Extension for Joomla!
X-WR-RELCALID:3E26604A-50F4-4449-8B3E-E4F4932D05B5
X-WR-TIMEZONE:Europe/Zurich
BEGIN:VTIMEZONE
TZID:Europe/Zurich
TZUNTIL:20250330T010000Z
BEGIN:STANDARD
TZNAME:CET
DTSTART:20221030T030000
TZOFFSETFROM:+0200
TZOFFSETTO:+0100
RDATE:20231029T030000
RDATE:20241027T030000
END:STANDARD
BEGIN:DAYLIGHT
TZNAME:CEST
DTSTART:20230326T020000
TZOFFSETFROM:+0100
TZOFFSETTO:+0200
RDATE:20240331T020000
END:DAYLIGHT
END:VTIMEZONE
BEGIN:VEVENT
UID:34373933-3535-4361-b239-336538353938
DTSTAMP:20260423T101528Z
CATEGORIES:Folk & More
CLASS:PUBLIC
DESCRIPTION;ALTREP="CID:<FFFF__=0ABBE548DFE235B58f9e8a93d@coffeebean.com>":
 «Seine gefühlvollen Melodien rufen nostalgische und glückliche Bilder herv
 or» schreibt die französische Zeitung Toute la Culture über den niederländ
 ischen Filmmusik-Komponisten Reyn Ouwehand\, der mit den Besten der Chanso
 n-Szene zusammengearbeitet hat wie zum Beispiel Vanessa Paradis\, Benjamin
  Biolay\, Gaëtan Roussel\, Salvatore Adamo und Stephan Eicher.\nNun musizi
 ert der Pianist im Rahmen des Projektes «REYN» gemeinsam mit der Schweizer
  Cellistin Cécile Grüebler im Duo\, nach dem Prinzip „reduced\, simple and
  honest“. Die Musik\, bei welcher auch tonale melodische Improvisation ein
 e grosse Rolle spielt\, lädt zum Nachdenken und Träumen ein. Zwei hochkarä
 tige\, internationale Musiker mit einem besonderen Projekt\, bei welchem s
 ich Reinheit\, Emotion\, Ehrlichkeit\, Tradition und Avantgarde verbinden.
 \nReyn Ouwehand (p\, comp)\, Cécile Grüebler (Cello\, comp)\nhttps://reyn.
 nethttps://cecilegrueebler.com/de/\n\nInteressant zu wissen:\nReyn Ouwehan
 d und Cécile Grüebler haben sich 2019 in der Band von Stephan Eichers «Hom
 eless Songs»-Tour kennengelernt. Die Liebe zur tonalen\, melodischen Impro
 visation\, sowie die Faszination dafür\, Musik aufs Wesentlichste zu reduz
 ieren und so eine unmittelbare Reinheit und Ehrlichkeit zu erreichen\, ver
 band die beiden Künstler von Anfang an.\nReyn Ouwehand ist ein multidiszip
 linärer niederländischer Künstler\; ein ausserordentlicher und preisgekrön
 ter Komponist\, Produzent\, Mixing Engineer und Performer. Er begann im Al
 ter von 16 Jahren mit dem Schreiben von Soundtracks für einige der grösste
 n Videospielverlage (Last Ninja III\, Flimbo's Quest). Bis heute hat er me
 hr als ein Dutzend Film-Soundtracks und Themen-Songs für TV-Serien aufgeno
 mmen. In den letzten Jahren arrangierte er auch für die Amsterdam Sinfonie
 tta und das Philharmonische Orchester des Residentie Orkest in den Niederl
 anden. Ausserdem wirkt er an Alben und Tourneen mit für Künstler wie Vanes
 sa Paradis\, ZAZ\, Benjamin Biolay\, Stephan Eicher\, Gaëtan Roussel\, Tei
 tur\, Mister &amp\; Mississippi\, Wende und Kane.\nCécile Grüebler Die Sch
 weizer Cellistin arbeitet neben ihrer internationalen Tätigkeit als Konzer
 tcellistin als Solocellistin/Improvisatorin/Topline-Komponistin für divers
 e Studioproduktionen und bewegt sich dabei gekonnt zwischen verschiedenste
 n musikalischen Stilrichtungen. Anfang 2019 erschien beim deutschen Klassi
 klabel Cybele Records die erste CD-Produktion ihres Duos Grüebler/Chitadze
  mit Werken von Paul Hindemith\, Bernhard Heiden und Walter Skolnik. Mit d
 iesem Programm durfte sie im selben Jahr auch ihr Carnegie Hall Debut in N
 ew York geben. Cécile Grüebler ist ausserdem ausgebildete Filmschauspieler
 in und arbeitet seit 2021 als professionelle Sprecherin für verschiedenste
  Projekte.
DTSTART:20230924T173000Z
DTEND:20230924T173000Z
GEO:00;0
LOCATION:
ORGANIZER:
SEQUENCE:1
SUMMARY:REYN feat. Cécile Grüebler
TRANSP:OPAQUE
URL:https://www.esse.bar/index.php/veranstaltungen/vergangene-veranstaltung
 en/1899-reyn/2023-09-24-19-30
END:VEVENT
END:VCALENDAR
