BEGIN:VCALENDAR
VERSION:2.0
PRODID:-//ESSE Musicbar Winterthur//NONSGML kigkonsult.se iCalcreator 2.41.92//
CALSCALE:GREGORIAN
METHOD:PUBLISH
UID:39346231-3364-4132-b433-343936666364
X-WR-CALNAME:iCagenda
X-WR-CALDESC:Event Management Extension for Joomla!
X-WR-RELCALID:3E26604A-50F4-4449-8B3E-E4F4932D05B5
X-WR-TIMEZONE:Europe/Zurich
BEGIN:VTIMEZONE
TZID:Europe/Zurich
TZUNTIL:20251026T010000Z
BEGIN:STANDARD
TZNAME:CET
DTSTART:20221030T030000
TZOFFSETFROM:+0200
TZOFFSETTO:+0100
RDATE:20231029T030000
RDATE:20241027T030000
END:STANDARD
BEGIN:DAYLIGHT
TZNAME:CEST
DTSTART:20230326T020000
TZOFFSETFROM:+0100
TZOFFSETTO:+0200
RDATE:20240331T020000
RDATE:20250330T020000
END:DAYLIGHT
END:VTIMEZONE
BEGIN:VEVENT
UID:30616265-3466-4932-a539-396261336561
DTSTAMP:20260423T101919Z
CATEGORIES:Jazz
CLASS:PUBLIC
DESCRIPTION;ALTREP="CID:<FFFF__=0ABBE548DFE235B58f9e8a93d@coffeebean.com>":
 Das Quartett rund um die Sängerin und Komponistin Gabriela Krapf bietet ei
 n vielseitiges musikalisches Erlebnis\, das mit kreativer Energie und eine
 m einzigartigen Stil sowohl Jazzliebhaber:innen als auch ein breiteres Pub
 likum begeistern kann.\nDas Repertoire besteht aus fliessenden Melodien\, 
 die immer wieder von überraschenden Akkordfolgen und rhythmischen Spielere
 ien durchbrochen werden. Gabriela Krapf präsentiert mit ihrer ausdruckssta
 rken Stimme poetische Texte\, die sowohl in englischer als auch schweizerd
 eutscher Sprache verfasst sind. Gemeinsam erschaffen die vier Musiker:inne
 n eine einzigartige Klanglandschaft aus facettenreichen Rhythmen\, fesseln
 den Improvisationen und fantasievollen Erzählungen.\nGabriela Krapf (voc\,
  synth)\, Christian Rösli (p\, synth)\, André Pousaz (db)\, Christian Nied
 erer (dr)\nwww.gabrielakrapf.ch\nHauskonzert November 2022:https://youtu.b
 e/2iQeHTssz8shttps://youtu.be/Ln7_MXnVZI0\n* Bild by Anne Morgenstern
DTSTART:20230929T181500Z
DTEND:20230929T181500Z
GEO:00;0
LOCATION:
ORGANIZER:
SEQUENCE:1
SUMMARY:Krapf | Rösli | Pousaz | Niederer
TRANSP:OPAQUE
URL:https://www.esse.bar/index.php/veranstaltungen/vergangene-veranstaltung
 en/1900-krapf-roesli-pousaz-niederer/2023-09-29-20-15
END:VEVENT
END:VCALENDAR
