BEGIN:VCALENDAR
VERSION:2.0
PRODID:-//ESSE Musicbar Winterthur//NONSGML kigkonsult.se iCalcreator 2.41.92//
CALSCALE:GREGORIAN
METHOD:PUBLISH
UID:63333933-6437-4139-b530-613439653436
X-WR-CALNAME:iCagenda
X-WR-CALDESC:Event Management Extension for Joomla!
X-WR-RELCALID:3E26604A-50F4-4449-8B3E-E4F4932D05B5
X-WR-TIMEZONE:Europe/Zurich
BEGIN:VTIMEZONE
TZID:Europe/Zurich
TZUNTIL:20250330T010000Z
BEGIN:STANDARD
TZNAME:CET
DTSTART:20221030T030000
TZOFFSETFROM:+0200
TZOFFSETTO:+0100
RDATE:20231029T030000
RDATE:20241027T030000
END:STANDARD
BEGIN:DAYLIGHT
TZNAME:CEST
DTSTART:20230326T020000
TZOFFSETFROM:+0100
TZOFFSETTO:+0200
RDATE:20240331T020000
END:DAYLIGHT
END:VTIMEZONE
BEGIN:VEVENT
UID:34363831-3565-4032-a332-356637373566
DTSTAMP:20260419T120645Z
CATEGORIES:Party
CLASS:PUBLIC
DESCRIPTION;ALTREP="CID:<FFFF__=0ABBE548DFE235B58f9e8a93d@coffeebean.com>":
 Eine Veranstaltung des Vereins «Let’s dance 45».\nWir lassen die Vinyl-Sin
 gle wieder aufleben!\nLiebe Let's Dancer\nUngeachtet des aktuellen Sommerw
 etters sorgen wir auch im «Sommerloch» der ESSE Musicbar gerne wieder für 
 Bewegung und legen heisse Platten aus den 50er bis 80er Jahren auf. Viel U
 nbekanntes kommt neben bekannten Melodien und Ohrwürmer auf die Plattentel
 ler\; alles Musik\, die für schöne Erinnerungen sorgt und zum Tanzen animi
 ert.\nGemeinsam mit dem ESSE-TEAM freuen wir uns riesig auf viele Tanzbege
 isterte\, die Lust auf unsere Musik und das Ambiente der ESSE haben. Die B
 ar ist wie gewohnt schon ab 17 Uhr offen und bietet ihre Snacks und Drinks
  an.\nAuf zahlreiches Wiedersehen freuen sich Jochen\, Rolf\, Stefan und d
 as ESSE Musicbar-Team.\nEintritt CHF 20.– | Reduziertes Sitzplatzangebot |
  keine Platzreservation
DTSTART:20230825T220000Z
DTEND:20230825T220000Z
GEO:00;0
LOCATION:
ORGANIZER:
SEQUENCE:1
SUMMARY:LET'S DANCE 45
TRANSP:OPAQUE
URL:https://www.esse.bar/index.php/veranstaltungen/vergangene-veranstaltung
 en/1903-privatanlass-128/2023-08-26-00-00
END:VEVENT
END:VCALENDAR
