BEGIN:VCALENDAR
VERSION:2.0
PRODID:-//ESSE Musicbar Winterthur//NONSGML kigkonsult.se iCalcreator 2.41.92//
CALSCALE:GREGORIAN
METHOD:PUBLISH
UID:65636461-6237-4637-b434-666566613233
X-WR-CALNAME:iCagenda
X-WR-CALDESC:Event Management Extension for Joomla!
X-WR-RELCALID:3E26604A-50F4-4449-8B3E-E4F4932D05B5
X-WR-TIMEZONE:Europe/Zurich
BEGIN:VTIMEZONE
TZID:Europe/Zurich
TZUNTIL:20251026T010000Z
BEGIN:STANDARD
TZNAME:CET
DTSTART:20221030T030000
TZOFFSETFROM:+0200
TZOFFSETTO:+0100
RDATE:20231029T030000
RDATE:20241027T030000
END:STANDARD
BEGIN:DAYLIGHT
TZNAME:CEST
DTSTART:20230326T020000
TZOFFSETFROM:+0100
TZOFFSETTO:+0200
RDATE:20240331T020000
RDATE:20250330T020000
END:DAYLIGHT
END:VTIMEZONE
BEGIN:VEVENT
UID:37333162-6438-4631-b632-363761353263
DTSTAMP:20260423T101842Z
CATEGORIES:Folk & More
CLASS:PUBLIC
DESCRIPTION;ALTREP="CID:<FFFF__=0ABBE548DFE235B58f9e8a93d@coffeebean.com>":
 Shawn Jones ist für uns schon lange kein Unbekannter mehr. Sowohl Solo\, a
 ls auch im Duo mit Roger Szedalik begeisterte er in den vergangenen Jahren
  das Publikum bereits bei einigen Shows. Dieses Mal hat er auf seiner Tour
  Unterstützung dabei. Seine langjährigen Weggefährten Walter Cerasani am B
 ass und Gianpaolo Feola am Schlagzeug werden den groovigen Teppich legen f
 ür Shawn Jones phänomenale Gitarren-Soli und seine zart-raue Stimme\, aus 
 welcher der Blues nur so trieft.\nShawn Jones ist der Inbegriff der Slide-
 Gitarre und einer der ausdrucksstärksten SingerSongwriter\, wenn es um ame
 rikanischen Southern-Blues und Rock geht! Mit im Gepäck: Sein neues Album 
 „In My Blood“ - Sein wohl bislang reifstes und kompromisslosestes Werk\, d
 as grosses Potential hat\, ihn in in den Olymp der internationalen Blues-G
 rössen zu katapultieren.\nSeit vielen Jahren tourt er durch die USA\, Cana
 da\, wie auch Europa und wird am 8. Oktober das Publikum in der Esse Musik
 bar vom Hocker reissen.\nShawn Jones (g\, voc)\, Walter Cerasani (b)\, Gia
 npaolo Feola (dr)\nwww.shawnjonesmusic.comwww.facebook.com/OfficialShawnJo
 neswww.instagram.com/shawnjonesmusic/\n \n 
DTSTART:20231008T173000Z
DTEND:20231008T173000Z
GEO:00;0
LOCATION:
ORGANIZER:
SEQUENCE:1
SUMMARY:Shawn Jones Trio
TRANSP:OPAQUE
URL:https://www.esse.bar/index.php/veranstaltungen/vergangene-veranstaltung
 en/1930-shawn-jones-trio-2/2023-10-08-19-30
END:VEVENT
END:VCALENDAR
