BEGIN:VCALENDAR
VERSION:2.0
PRODID:-//ESSE Musicbar Winterthur//NONSGML kigkonsult.se iCalcreator 2.41.92//
CALSCALE:GREGORIAN
METHOD:PUBLISH
UID:30343966-3137-4466-b462-333534613465
X-WR-CALNAME:iCagenda
X-WR-CALDESC:Event Management Extension for Joomla!
X-WR-RELCALID:3E26604A-50F4-4449-8B3E-E4F4932D05B5
X-WR-TIMEZONE:Europe/Zurich
BEGIN:VTIMEZONE
TZID:Europe/Zurich
TZUNTIL:20250330T010000Z
BEGIN:STANDARD
TZNAME:CET
DTSTART:20221030T030000
TZOFFSETFROM:+0200
TZOFFSETTO:+0100
RDATE:20231029T030000
RDATE:20241027T030000
END:STANDARD
BEGIN:DAYLIGHT
TZNAME:CEST
DTSTART:20230326T020000
TZOFFSETFROM:+0100
TZOFFSETTO:+0200
RDATE:20240331T020000
END:DAYLIGHT
END:VTIMEZONE
BEGIN:VEVENT
UID:38666333-3762-4531-a661-326664623938
DTSTAMP:20260423T102140Z
CATEGORIES:Jazz
CLASS:PUBLIC
DESCRIPTION;ALTREP="CID:<FFFF__=0ABBE548DFE235B58f9e8a93d@coffeebean.com>":
 Diese Band spielt modernen\, rhythmischen Jazz. Und letztmals in der ESSE 
 spielte sie ihn vor über sechs Jahren. Echt jetzt – so lange ist das schon
  her? Das ändern wir jetzt aber ganz schnell. Im Mittelpunkt von «Olivieri
  Jazz» steht der Bereich des Hardbop und des Neobop\, jenen Stilrichtungen
  also\, bei denen der moderne Jazz mit Elementen des Soul und Funk angerei
 chert wurde. Ein weiterer Schwerpunkt bildet der Latin-Jazz mit Salsa\, Sa
 mba\, Bossa u.ä. Ergänzend dazu spielt die Band Themen aus dem Bereich des
  Rock-Jazz\, des Bebop\, des Blues und des Mainstreams.\nUnd das sagen die
  Musiker selbst über ihre Musik: «Jazz ist keine «reine» Musik\, das wäre 
 ja ein Widerspruch in sich. So verstehen auch wir unsere Musik. Sie ist de
 r Tradition\, den Wurzeln des Blues verpflichtet\, aber ebenso ein Konglom
 erat unterschiedlichster Stile wie Soul\, Funk\, Rock oder Latin. Mal unte
 rhalten wir eher aus dem Hintergrund heraus\, mal versuchen wir\, Grenzen 
 zu sprengen und Formen neu zu gestalten. Immer aber mit dem Ziel\, das Inn
 erste des Menschen\, Körper wie Intellekt\, anzusprechen. Und dabei Energi
 en freizubekommen. So sind wir zwar im Kern dem Hard- und Neobop sowie dem
  Latin-Jazz verpflichtet. Vielleicht ist es eine Generationenfrage. Doch b
 ei aller Treue zu Stil und Form bleiben wir stets auf der Suche nach Neuem
 \, Anderem. Nach Ideen\, Energie\, Kreativität. Mal sanft und anmutig\, ma
 l kräftig und impulsiv. Wir spielen nicht einfach Weltmusik\, wir spielen 
 Jazz.»\nRudolf Olivieri (tp\,flh)\, Felix Straumann (ts)\, Thomas Schaller
  (p)\, Rainer Stadler (db)\, Felix Zindel (dr)\nhttps://www.olivieri-jazz.
 ch
DTSTART:20230908T181500Z
DTEND:20230908T181500Z
GEO:00;0
LOCATION:
ORGANIZER:
SEQUENCE:1
SUMMARY:Olivieri Jazz – «Very jazzy Sounds»
TRANSP:OPAQUE
URL:https://www.esse.bar/index.php/veranstaltungen/vergangene-veranstaltung
 en/1931-olivieri-jazz-very-jazzy-sounds/2023-09-08-20-15
END:VEVENT
END:VCALENDAR
