BEGIN:VCALENDAR
VERSION:2.0
PRODID:-//ESSE Musicbar Winterthur//NONSGML kigkonsult.se iCalcreator 2.41.92//
CALSCALE:GREGORIAN
METHOD:PUBLISH
UID:62363534-3732-4036-b934-626363616630
X-WR-CALNAME:iCagenda
X-WR-CALDESC:Event Management Extension for Joomla!
X-WR-RELCALID:3E26604A-50F4-4449-8B3E-E4F4932D05B5
X-WR-TIMEZONE:Europe/Zurich
BEGIN:VTIMEZONE
TZID:Europe/Zurich
TZUNTIL:20251026T010000Z
BEGIN:STANDARD
TZNAME:CET
DTSTART:20221030T030000
TZOFFSETFROM:+0200
TZOFFSETTO:+0100
RDATE:20231029T030000
RDATE:20241027T030000
END:STANDARD
BEGIN:DAYLIGHT
TZNAME:CEST
DTSTART:20230326T020000
TZOFFSETFROM:+0100
TZOFFSETTO:+0200
RDATE:20240331T020000
RDATE:20250330T020000
END:DAYLIGHT
END:VTIMEZONE
BEGIN:VEVENT
UID:35323066-3135-4532-a239-343664663331
DTSTAMP:20260423T101613Z
CATEGORIES:Blues
CLASS:PUBLIC
DESCRIPTION;ALTREP="CID:<FFFF__=0ABBE548DFE235B58f9e8a93d@coffeebean.com>":
 ACHTUNG: Eisenwerk Frauenfeld\, Industriestrasse 23\nKnisternder Blues-Roc
 k\, treibender Boogie und emotionsgetränkter Soul.\nEndlich wieder zurück 
 im Eisenwerk: Thorbjørn Risager &amp\; The Black Tornado! Das Septett um d
 en Bandleader Thorbjørn Risager hat in den letzten 20 Jahren die ganze Wel
 t erobert. Mit ihrer dynamischen Bühnenpräsenz und einem Sound\, der Soul\
 , Chicago Blues\, Boogie und Rock'n'Roll mit einer Stimme vereint\, in der
  sich Ray Charles\, Van Morrison und Billy Gibbons in der Mitte treffen\, 
 haben sie das Publikum in Skandinavien\, ganz Europa\, Kanada\, den USA un
 d Asien in ihren Bann gezogen. Sie brachten die Tanzschuhe auf die grösste
 n Festivalbühnen Europas\, den Low-Light-Noir-Blues in die Jazzclubs rund 
 um den Globus und teilten sich die Bühnen mit Grössen wie Buddy Guy und Te
 deschi-Trucks.\nZwei Jahrzehnte auf Tournee durch 21 Länder haben der Band
  die unglaubliche Fähigkeit verliehen\, zu wissen\, was die Menschen beweg
 t – sowohl die Füsse als auch das Herz. Auf ihren neuen Album «Navigation 
 Blues» setzen sie diese Fähigkeit mit absoluter Präzision ein\, sei es der
  Veranda-Blues von «The Way You Make Me Feel»\, seien es Rocker wie «Fire 
 Inside» oder «Headed for the Stars» oder der sanfte Schmerz von «Blue Lull
 aby» und «Heart Crash». Aber ihr showmanistischer Sinn für Abenteuer ist n
 ie weit weg\, was sich in dem Rock’n’Roller «Hoodoo Lover» oder dem Boogie
  von «Taking the Good With the Bad» zeigt.In jeder Hinsicht sind Thorbjørn
  Risager &amp\; The Black Tornado echte “Road Warriors”\, die 9-10 Monate 
 im Jahr auf Tournee sind. Aber das ist etwas\, das sie nie als selbstverst
 ändlich angesehen haben. Jedes Konzert ist eine einzigartige Erfahrung. «W
 enn man sich das Lächeln und die Reaktionen des Publikums ansieht\, weiss 
 man\, dass das\, was man tut\, Sinn macht.»\nThorbjørn Risager – Vocals\, 
 GuitarEmil Balsgaard – Piano\, Organ\, Wurlitzer\, SynthesizerJoachim Sven
 smark – Guitar\, Synthesizer\, BG vocalKasper Wagner – Alto Sax\, Tenor Sa
 x\, Baritone Sax\,Hans Nybo – Tenor SaxPeter W Kehl – Trumpet\, Flugelhorn
 \, Trombone\, Sousaphone\,Søren Bøjgaard – Bass\, Moog Bass\, SynthesizerM
 artin Seidelin – Drums\, Percussion\nhttps://www.youtube.com/watch?v=WyQw1
 FYk-Ishttps://risager.info\nVorverkauf:Fr. 45.-/35.-\, Tickets bei Ticketi
 no:https://www.ticketino.com\nAbendkasse:Fr. 50.-/40.-
DTSTART:20231014T190000Z
DTEND:20231014T190000Z
GEO:00;0
LOCATION:
ORGANIZER:
SEQUENCE:1
SUMMARY:Thorbjørn Risager & The Black Tornado (DK)
TRANSP:OPAQUE
URL:https://www.esse.bar/index.php/veranstaltungen/vergangene-veranstaltung
 en/1932-thorbjorn-risager-the-black-tornado-dk-2/2023-10-14-21-00
END:VEVENT
END:VCALENDAR
