BEGIN:VCALENDAR
VERSION:2.0
PRODID:-//ESSE Musicbar Winterthur//NONSGML kigkonsult.se iCalcreator 2.41.92//
CALSCALE:GREGORIAN
METHOD:PUBLISH
UID:39656230-3561-4437-a465-613933646439
X-WR-CALNAME:iCagenda
X-WR-CALDESC:Event Management Extension for Joomla!
X-WR-RELCALID:3E26604A-50F4-4449-8B3E-E4F4932D05B5
X-WR-TIMEZONE:Europe/Zurich
BEGIN:VTIMEZONE
TZID:Europe/Zurich
TZUNTIL:20251026T010000Z
BEGIN:STANDARD
TZNAME:CET
DTSTART:20231029T030000
TZOFFSETFROM:+0200
TZOFFSETTO:+0100
RDATE:20241027T030000
END:STANDARD
BEGIN:DAYLIGHT
TZNAME:CEST
DTSTART:20230326T020000
TZOFFSETFROM:+0100
TZOFFSETTO:+0200
RDATE:20240331T020000
RDATE:20250330T020000
END:DAYLIGHT
END:VTIMEZONE
BEGIN:VEVENT
UID:37336462-6635-4836-b732-326661626366
DTSTAMP:20260423T100345Z
CATEGORIES:Blues
CLASS:PUBLIC
DESCRIPTION;ALTREP="CID:<FFFF__=0ABBE548DFE235B58f9e8a93d@coffeebean.com>":
 ACHTUNG: Eisenwerk Frauenfeld\, Industriestrasse 23\nVariantenreicher Blue
 s-Rock\, virtuose Gitarre und cooler Gesang.\nBen Poole\, Gitarrist und Sä
 nger aus Brighton\, als vielversprechendstes Talent der britischen Bluesro
 ck-Szene gehandelt\, betrat 2016 anlässlich des Bluesfestivals erstmals Fr
 auenfelder-Boden und wurde nach seinem famosen Auftritt zu Recht als Entde
 ckung bezeichnet.\n2011 gründete er die «Ben Poole Band»\, ein Bluesrock-T
 rio\, welches gleich im ersten Jahr seines Bestehens für die „British Blue
 s Awards“ 2011 nominiert wurde. Ben Poole\, mittlerweile ein international
  anerkannter Tournee- und Studiokünstler\, begann seine Karriere im Alter 
 von 16 Jahren in der lokalen Blues-Szene Grossbritanniens und wurde von ei
 nigen der renommiertesten Blues- und Rock-Musiker der Welt wie Jeff Beck\,
  Gary Moore\, John Mayall\, Beth Hart\, Kenny Wayne Shepherd\, Walter Trou
 t\, Richie Kotzen und vielen anderen bejubelt. Ausserdem zierte er die Tit
 elseiten einiger der angesehensten Publikationen und Organisationen und er
 hielt Preise und Auszeichnungen\, darunter auch die Wahl in die Top 15 der
  besten Bluesgitarristen der Welt vor einigen Jahren durch das meistverkau
 fte Gitarrenmagazin Europas (Total Guitar Magazine/Music Radar).\nPoole be
 dient keine ausgelatschten Blues-Pfade\, sondern er serviert seinen Blues 
 wie in einem Sterne-Restaurant\, häppchenweise und fein garniert mit Zutat
 en\, welche die moderne Musiklandschaft so bietet.\nIm Rahmen ihrer Europa
 -Tournee machen Ben Poole und sein Trio auch in der Schweiz für zwei exklu
 sive Club-Shows Station. So freuen wir uns\, dass eine davon im Eisenwerk 
 stattfindet. Energie\, Leidenschaft und musikalische Virtuosität sind hier
 mit versprochen!\nBen Poole (g\, voc)\, Band: tba\nhttps://benpooleband.co
 mhttps://www.instagram.com/benpooleofficial/https://www.facebook.com/benpo
 oleofficial\nVorverkauf:Fr. 45.-/35.-\, Tickets bei Ticketino:https://www.
 ticketino.com\nAbendkasse:Fr. 50.-/40.-
DTSTART:20231101T191500Z
DTEND:20231101T191500Z
GEO:00;0
LOCATION:
ORGANIZER:
SEQUENCE:1
SUMMARY:Ben Poole (UK)
TRANSP:OPAQUE
URL:https://www.esse.bar/index.php/veranstaltungen/vergangene-veranstaltung
 en/1933-thorbjorn-risager-the-black-tornado-dk-3/2023-11-01-20-15
END:VEVENT
END:VCALENDAR
