BEGIN:VCALENDAR
VERSION:2.0
PRODID:-//ESSE Musicbar Winterthur//NONSGML kigkonsult.se iCalcreator 2.41.92//
CALSCALE:GREGORIAN
METHOD:PUBLISH
UID:36303161-3833-4462-b232-386561633065
X-WR-CALNAME:iCagenda
X-WR-CALDESC:Event Management Extension for Joomla!
X-WR-RELCALID:3E26604A-50F4-4449-8B3E-E4F4932D05B5
X-WR-TIMEZONE:Europe/Zurich
BEGIN:VTIMEZONE
TZID:Europe/Zurich
TZUNTIL:20250330T010000Z
BEGIN:STANDARD
TZNAME:CET
DTSTART:20221030T030000
TZOFFSETFROM:+0200
TZOFFSETTO:+0100
RDATE:20231029T030000
RDATE:20241027T030000
END:STANDARD
BEGIN:DAYLIGHT
TZNAME:CEST
DTSTART:20230326T020000
TZOFFSETFROM:+0100
TZOFFSETTO:+0200
RDATE:20240331T020000
END:DAYLIGHT
END:VTIMEZONE
BEGIN:VEVENT
UID:34393564-3735-4633-a561-326631656334
DTSTAMP:20260423T101917Z
CATEGORIES:Jazz
CLASS:PUBLIC
DESCRIPTION;ALTREP="CID:<FFFF__=0ABBE548DFE235B58f9e8a93d@coffeebean.com>":
 Das fein-swingende Schlagzeugspiel Hannahs\, Jerrys klingende Gitarre\, An
 dis klarer\, erdiger Tenorsax-Sound und Jans tragender Bass präsentieren e
 uch Jazz- und Latin-Klassiker aus dem American Real Book von «All Blues» b
 is «Well You Needn’t».\nDie ansteckende Spielfreude der Band und das abwec
 hslungsreiche Repertoire bieten nicht nur Gelegenheit\, Songperlen wieder 
 zu entdecken\, sondern sorgen gleichzeitig auch für beste Unterhaltung.\nA
 ndreas Baumann (ts)\, Jerry Rojas (g)\, Jan von Rickenbach (b)\, Hannah (d
 r)
DTSTART:20230928T181500Z
DTEND:20230928T181500Z
GEO:00;0
LOCATION:
ORGANIZER:
SEQUENCE:1
SUMMARY:Jejahaan Quartett
TRANSP:OPAQUE
URL:https://www.esse.bar/index.php/veranstaltungen/vergangene-veranstaltung
 en/1935-jejahaan-quartett/2023-09-28-20-15
END:VEVENT
END:VCALENDAR
