BEGIN:VCALENDAR
VERSION:2.0
PRODID:-//ESSE Musicbar Winterthur//NONSGML kigkonsult.se iCalcreator 2.41.92//
CALSCALE:GREGORIAN
METHOD:PUBLISH
UID:31323639-3033-4632-a564-643265643731
X-WR-CALNAME:iCagenda
X-WR-CALDESC:Event Management Extension for Joomla!
X-WR-RELCALID:3E26604A-50F4-4449-8B3E-E4F4932D05B5
X-WR-TIMEZONE:Europe/Zurich
BEGIN:VTIMEZONE
TZID:Europe/Zurich
TZUNTIL:20250330T010000Z
BEGIN:STANDARD
TZNAME:CET
DTSTART:20221030T030000
TZOFFSETFROM:+0200
TZOFFSETTO:+0100
RDATE:20231029T030000
RDATE:20241027T030000
END:STANDARD
BEGIN:DAYLIGHT
TZNAME:CEST
DTSTART:20230326T020000
TZOFFSETFROM:+0100
TZOFFSETTO:+0200
RDATE:20240331T020000
END:DAYLIGHT
END:VTIMEZONE
BEGIN:VEVENT
UID:39393537-3034-4836-a436-663865333535
DTSTAMP:20260419T120640Z
CATEGORIES:Jazz Jam Point Session
CLASS:PUBLIC
DESCRIPTION;ALTREP="CID:<FFFF__=0ABBE548DFE235B58f9e8a93d@coffeebean.com>":
 Musiker:innen\, die mitjamen möchten melden sich direkt bei Richard Schmie
 d rschmied(at)bluewin.ch | Telefon 044-869 42 32 – mobil 079-433 76 33\nEs
  hat geklappt: Der Veranstalter «Jam-Point» hat seinen gleichnamigen Verei
 n am Sonntagabend\, 02. Juli 2023 im Schulhaus Kanzlei in 8004 Zürich gegr
 ündet. So haben sich die anwesenden Musiker:innen\, Veranstalter:innen und
  das für die anschliessende Jam-Session angetretene Publikum als künftige 
 Mitglieder eingeschrieben.\nDer Verein bezweckt den Aufbau\, die Förderung
  und die Vernetzung lokaler Organisationen\, die sich der Betreibung von J
 am-Sessions annehmen. Er unterstützt diese nach Kräften und sichert die Ko
 mmunikation innerhalb des Netzwerkes. Eine wesentliche Aufgabe des Vereins
  ist die Integration junger Musiker:innen und Musikstudierenden sowie das 
 intergenerationelle Zusammenspiel.\nDer Verein betreibt die Organisation v
 on Jazzkonzerten und Jamsessions in periodischen Abständen und an verschie
 denen Orten. Insbesondere steht die Integration junger Musiker:innen und M
 usikstudierenden von Musik-Schulen und -Hochschulen wie z.B. MKZ und ZHdK 
 im Zentrum.\nDer Verein verfolgt keine kommerziellen Zwecke und erstrebt k
 einen Profit. Der Verein kann als Veranstalter und/oder als Partner von Ve
 ranstaltern auftreten. Der Verein kann Immobilien erwerben und veräussern\
 , sofern dies zum Nutzen des Vereins geschieht.\nUnd damit gelangen wir zu
 r aktuellen Jam-Point-Session Nr. #10 bei uns in der ESSE Musicbar. Wieder
  werden sehr gerne möglichst viele Zuhörerinnen und Zuhörer und eine Vielz
 ahl an Musikerinnen und Musiker aus nah und fern erwartet. Und versprochen
  ist erneut eine Super-Session mit viel Swing und Groove.\nDie Jam Point G
 roup: Richi Schmied (tp\, flh)\, Rolf Winiger (cl\, s)\, Elmar Kluth (p)\,
  Timon Roth (b)\, Bernie Ruch (dr)Special Guest: Der schweizweit bekannte 
 Trompeter Thommy Moeckel (tp)\n\nwww.jam-point.ch\nMusiker:innen\, die mit
 jamen möchten melden sich direkt bei Richard Schmied rschmied(at)bluewin.c
 h | Telefon 044-869 42 32 – mobil 079-433 76 33
DTSTART:20230830T180000Z
DTEND:20230830T180000Z
GEO:00;0
LOCATION:
ORGANIZER:
SEQUENCE:1
SUMMARY:Jam-Point Session #10
TRANSP:OPAQUE
URL:https://www.esse.bar/index.php/veranstaltungen/vergangene-veranstaltung
 en/1936-jam-point-session-10/2023-08-30-20-00
END:VEVENT
END:VCALENDAR
