BEGIN:VCALENDAR
VERSION:2.0
PRODID:-//ESSE Musicbar Winterthur//NONSGML kigkonsult.se iCalcreator 2.41.92//
CALSCALE:GREGORIAN
METHOD:PUBLISH
UID:32343137-3034-4365-b137-623331326236
X-WR-CALNAME:iCagenda
X-WR-CALDESC:Event Management Extension for Joomla!
X-WR-RELCALID:3E26604A-50F4-4449-8B3E-E4F4932D05B5
X-WR-TIMEZONE:Europe/Zurich
BEGIN:VTIMEZONE
TZID:Europe/Zurich
TZUNTIL:20250330T010000Z
BEGIN:STANDARD
TZNAME:CET
DTSTART:20221030T030000
TZOFFSETFROM:+0200
TZOFFSETTO:+0100
RDATE:20231029T030000
RDATE:20241027T030000
END:STANDARD
BEGIN:DAYLIGHT
TZNAME:CEST
DTSTART:20230326T020000
TZOFFSETFROM:+0100
TZOFFSETTO:+0200
RDATE:20240331T020000
END:DAYLIGHT
END:VTIMEZONE
BEGIN:VEVENT
UID:36333735-3634-4836-b939-336565316661
DTSTAMP:20260419T121337Z
CATEGORIES:Jazz
CLASS:PUBLIC
DESCRIPTION;ALTREP="CID:<FFFF__=0ABBE548DFE235B58f9e8a93d@coffeebean.com>":
 Doppelte CD-Taufe: «Erzählen» &amp\; «Solo Vol. 2»\nAn diesem Abend werden
  die beiden neuen Alben «Gisela Horat Vol.2» und Gisela Horat Trio «Erzähl
 en» mit einem Doppelkonzert von Gisela Horat Solopiano und dem Gisela Hora
 t Trio Trio (Gisela Horat p und comp\, Simon Iten\, db\, Samuel Büttiker\,
  dr und perc) featuring Christine Stöckli getauft.\nDas Programm in zwei T
 eilen bietet einen Querschnitt durch die Musik von Gisela Horat mit Piano 
 Solo-Improvisationen vom Album «Gisela Horat Vol. 2» und Trio-Improvisatio
 nen sowie Geschichten der Autorin Christine Stöckli aus der zweiten neuen 
 CD «Erzählen». Ein Abend mit überraschenden Wendungen in Wort und Ton.\nGi
 sela Horat (p\, comp)\, Simon Iten (db)\, Samuel Büttiker (dr)Special Gues
 t: Christine Stöckli (Lyrics)\nhttps://www.gisela-horat.ch/index.php/de/\n
 \nIn eigenen Worten:\n«Gisela Horat Vol. 2»Im Gegensatz zu meinen CD-Produ
 ktionen mit meinem Gisela Horat Trio\, die sich jeweils mit einem einzigen
  Hauptthema auseinandersetzen (Trio Alben «Warten» von 2019\, «2020» von 2
 021 und «Erzählen» von 2023) findet sich auf meiner 3. Solo-CD «Gisela Hor
 at Vol. 2» spontane Musik aus dem Moment heraus. Ich hatte mir mit dem 17.
  November 2022 bei Gabriel Recording in Stalden einen Tag Studio geschenkt
 \, um einfach die Klangschönheit des Bösendorfer Imperial geniessen zu kön
 nen. Das Resultat ist eine Reise durch mein musikalisches Universum mit vi
 el Ruhe\, Stille und ein wenig Schwermut.\nGisela Horat Trio – «Erzählen»«
 Meine Kompositionen erzählen Geschichten\, immer wieder neue und andere». 
 Das Album «Erzählen» des Gisela Horat Trios (Gisela Horat p und comp\, Sim
 on Iten\, db\, Samuel Büttiker\, dr und perc) vertont Geschichten\, die vo
 n der Autorin Christine Stöckli geschrieben wurden und von ihr zusammen mi
 t dem Trio erzählt werden. Diese Geschichten sind nicht einfach so entstan
 den. Sie sind inspiriert durch die neun musikalischen Kurzideen von Gisela
  Horat.
DTSTART:20230917T173000Z
DTEND:20230917T173000Z
GEO:00;0
LOCATION:
ORGANIZER:
SEQUENCE:1
SUMMARY:Gisela Horat: Solo & Trio – Doppelte CD-Taufe
TRANSP:OPAQUE
URL:https://www.esse.bar/index.php/veranstaltungen/vergangene-veranstaltung
 en/1939-gisela-horat-solo-trio-doppelte-cd-taufe/2023-09-17-19-30
END:VEVENT
END:VCALENDAR
