BEGIN:VCALENDAR
VERSION:2.0
PRODID:-//ESSE Musicbar Winterthur//NONSGML kigkonsult.se iCalcreator 2.41.92//
CALSCALE:GREGORIAN
METHOD:PUBLISH
UID:63623563-6233-4938-b536-303530326336
X-WR-CALNAME:iCagenda
X-WR-CALDESC:Event Management Extension for Joomla!
X-WR-RELCALID:3E26604A-50F4-4449-8B3E-E4F4932D05B5
X-WR-TIMEZONE:Europe/Zurich
BEGIN:VTIMEZONE
TZID:Europe/Zurich
TZUNTIL:20250330T010000Z
BEGIN:STANDARD
TZNAME:CET
DTSTART:20221030T030000
TZOFFSETFROM:+0200
TZOFFSETTO:+0100
RDATE:20231029T030000
RDATE:20241027T030000
END:STANDARD
BEGIN:DAYLIGHT
TZNAME:CEST
DTSTART:20230326T020000
TZOFFSETFROM:+0100
TZOFFSETTO:+0200
RDATE:20240331T020000
END:DAYLIGHT
END:VTIMEZONE
BEGIN:VEVENT
UID:34313561-3934-4838-b538-343666333438
DTSTAMP:20260419T121251Z
CATEGORIES:Folk & More
CLASS:PUBLIC
DESCRIPTION;ALTREP="CID:<FFFF__=0ABBE548DFE235B58f9e8a93d@coffeebean.com>":
 «Jessie &amp\; the Gents» schreiben eine Erfolgsgeschichte. Die Band wurde
  im Jahr 2017 gegründet und gewann im Mai 2018 den Swiss Country Music Awa
 rd. Im Juli 2019 tourte die Band durch Kanada und brachte auch da die Meng
 en zum toben.\nDie Freude und das Feuer dieser Acoustic-Crew widerspiegelt
  sich ganz klar in der Musik! «Back to the Basics» heisst und ist ihre Dev
 ise. Die Band spielt ihre rein akustisch gehaltenen Eigenkompositionen im 
 Bluegrass-\, Country- und Americana-Bereich wie auch Songs von Alison Krau
 ss bis zu Norah Jones\, mit richtig viel Leidenschaft. Kein Wunder\, dass 
 ihre Fan-Gemeinde von Konzert zu Konzert immer grösser wird.\nJessie Harde
 gger (voc\, mand)\, Rick Noorlander (g\, voc)\, Rainer Hagmann (vl\, voc)\
 ,  Putzie Mayr (dobro\, voc)\, Luca Leombruni (db)\nhttps://www.jessieandt
 hegents.com
DTSTART:20230914T181500Z
DTEND:20230914T181500Z
GEO:00;0
LOCATION:
ORGANIZER:
SEQUENCE:1
SUMMARY:Jessie & The Gents – 100 % handmade music!
TRANSP:OPAQUE
URL:https://www.esse.bar/index.php/veranstaltungen/vergangene-veranstaltung
 en/1942-jessie-the-gents-100-handmade-music/2023-09-14-20-15
END:VEVENT
END:VCALENDAR
