BEGIN:VCALENDAR
VERSION:2.0
PRODID:-//ESSE Musicbar Winterthur//NONSGML kigkonsult.se iCalcreator 2.41.92//
CALSCALE:GREGORIAN
METHOD:PUBLISH
UID:63393765-3163-4133-a530-306332626566
X-WR-CALNAME:iCagenda
X-WR-CALDESC:Event Management Extension for Joomla!
X-WR-RELCALID:3E26604A-50F4-4449-8B3E-E4F4932D05B5
X-WR-TIMEZONE:Europe/Zurich
BEGIN:VTIMEZONE
TZID:Europe/Zurich
TZUNTIL:20251026T010000Z
BEGIN:STANDARD
TZNAME:CET
DTSTART:20231029T030000
TZOFFSETFROM:+0200
TZOFFSETTO:+0100
RDATE:20241027T030000
END:STANDARD
BEGIN:DAYLIGHT
TZNAME:CEST
DTSTART:20230326T020000
TZOFFSETFROM:+0100
TZOFFSETTO:+0200
RDATE:20240331T020000
RDATE:20250330T020000
END:DAYLIGHT
END:VTIMEZONE
BEGIN:VEVENT
UID:37333931-3234-4165-b064-386235666330
DTSTAMP:20260423T084553Z
CATEGORIES:Folk & More
CLASS:PUBLIC
DESCRIPTION;ALTREP="CID:<FFFF__=0ABBE548DFE235B58f9e8a93d@coffeebean.com>":
 Es ist wie es ist - hier kommt eine schlechte und eine gute Nachricht: Das
  geplante Konzert mit der roten Zora muss leider verschoben werden. Eine d
 er Sängerinnen ist zu krank\, um auftreten zu können. Christine Lauterburg
  - nicht krank - hat deshalb gesucht\, telefoniert\, gewirbelt und schlies
 slich Ersatz gefunden:\n\nLeider ist Natalie Huber sehr krank und so kann 
 die Rote Zora nicht singen.Ich bin jedoch überglücklich\, dass meine beide
 n Freunde Jürg und Roman so kurzfristig bereit sind\, am Sonntag mit mir z
 u musizieren!\nDer Akkordeonist Roman kommt aus dem Muotatal und spielt se
 hr virtuos und fröhlich wunderbar Urchiges. Jürg wird mit seinen lebendig 
 vorgetragenen Geschichten unser Herz erwärmen. Roman und ich haben schon o
 ft im Duo gespielt- er begleitet mich bei vielen meiner Lieder. Es wird si
 cher lustig! \nChristine Lauterburg\n\nRoman Schmidig\, AkkordeonJürg Stei
 gmeier\, GeschichtenerzählerChristine Lauterburg\, Geige\, Bratsche\, Lang
 nauerli\, Gesang\, Jodel  \n\nABGESAGT: Die Rote Zora - Naturjuzz und Berg
 ruf\nDas ist a capella Gesang und Juzz vom Feinsten – Musik aus der Schwei
 z\, Rumänien\, Georgien\, Frankreich\, Italien\, Oesterreich und auch Eige
 nkompositionen.Die Rote Zora kann überall singen – im Wald\, im Bahnhof\, 
 am Strassenrand\, in Kirchen\, in Festsälen\, in den Bergen und in der ESS
 E Musicbar – sie braucht nicht zwingend eine grosse Bühne mit PA\, nein es
  geht auch total stromlos und wasserdicht.\nGesungen werden Rugguserli\, Z
 äuerli\, Juzze\, und Lieder – auch was von Bartok ist dabei – Tiefgründige
 s aus Georgien und Lustiges aus Italien.\nDie Rote Zora das sind:Barbara B
 erger aus Bern\, Natalie Huber aus Zug\, Christine Lauterburg aus Bern\nww
 w.die-rote-zora.ch
DTSTART:20231217T183000Z
DTEND:20231217T183000Z
GEO:00;0
LOCATION:
ORGANIZER:
SEQUENCE:1
SUMMARY:8-ung Konzertänderung: Geschichten mit viel Live-Musik
TRANSP:OPAQUE
URL:https://www.esse.bar/index.php/veranstaltungen/vergangene-veranstaltung
 en/1943-rote-zora/2023-12-17-19-30
END:VEVENT
END:VCALENDAR
