BEGIN:VCALENDAR
VERSION:2.0
PRODID:-//ESSE Musicbar Winterthur//NONSGML kigkonsult.se iCalcreator 2.41.92//
CALSCALE:GREGORIAN
METHOD:PUBLISH
UID:63643732-3433-4664-a236-393534323566
X-WR-CALNAME:iCagenda
X-WR-CALDESC:Event Management Extension for Joomla!
X-WR-RELCALID:3E26604A-50F4-4449-8B3E-E4F4932D05B5
X-WR-TIMEZONE:Europe/Zurich
BEGIN:VTIMEZONE
TZID:Europe/Zurich
TZUNTIL:20251026T010000Z
BEGIN:STANDARD
TZNAME:CET
DTSTART:20231029T030000
TZOFFSETFROM:+0200
TZOFFSETTO:+0100
RDATE:20241027T030000
END:STANDARD
BEGIN:DAYLIGHT
TZNAME:CEST
DTSTART:20230326T020000
TZOFFSETFROM:+0100
TZOFFSETTO:+0200
RDATE:20240331T020000
RDATE:20250330T020000
END:DAYLIGHT
END:VTIMEZONE
BEGIN:VEVENT
UID:39396436-3232-4238-b634-396366623163
DTSTAMP:20260423T084719Z
CATEGORIES:Jazz
CLASS:PUBLIC
DESCRIPTION;ALTREP="CID:<FFFF__=0ABBE548DFE235B58f9e8a93d@coffeebean.com>":
 Die beiden Swiss Jazz Award Gewinner:innen Christina Jaccard und David Ruo
 sch lieben alle Formen der afroamerikanischen Musik. Mit Tiefgang\, einfüh
 lsamer Stimme und vibrierender Authentizität begeistert die Sängerin zusam
 men mit der europaweit bekannten Boogie-\, Stride- und Blues-Koryphäe das 
 Publikum.\nMit von der Partie auf der diesjährigen Gospel Tour sind der «B
 lack-Earth»- Schlagzeuger Willie Jordan aus Ghana und der Pianist\, Gitarr
 ist und Sänger Hans-Peter Ruosch\, besser bekannt als «Hamp Goes Wild». Da
 s neue Programm beinhaltet Gospel Perlen von Interpreten wie The Davis Sis
 ters\, Mavis Staple\, Al Green\, Brook Brenton\, Elvis Presley und weitere
 n - das Publikum darf sich auf eine lebendige Mischung aus lyrisch-besinnl
 ichen Songs\, souligen Afro-Rhythmen und einen Schuss Rock’n Roll freuen.
 \nChristina Jaccard (voc)\, David Ruosch (p\, arr\, bvoc)\, Hans-Peter Ruo
 sch (org\, g\, voc)\, Willie Jordan (dr\, perc)\nhttps://www.voicejaccard.
 ch
DTSTART:20231213T191500Z
DTEND:20231213T191500Z
GEO:00;0
LOCATION:
ORGANIZER:
SEQUENCE:1
SUMMARY:Christina Jaccard – We Got To Move
TRANSP:OPAQUE
URL:https://www.esse.bar/index.php/veranstaltungen/vergangene-veranstaltung
 en/1945-christina-jaccard-2/2023-12-13-20-15
END:VEVENT
END:VCALENDAR
