BEGIN:VCALENDAR
VERSION:2.0
PRODID:-//ESSE Musicbar Winterthur//NONSGML kigkonsult.se iCalcreator 2.41.92//
CALSCALE:GREGORIAN
METHOD:PUBLISH
UID:33343637-3162-4239-b336-653665393630
X-WR-CALNAME:iCagenda
X-WR-CALDESC:Event Management Extension for Joomla!
X-WR-RELCALID:3E26604A-50F4-4449-8B3E-E4F4932D05B5
X-WR-TIMEZONE:Europe/Zurich
BEGIN:VTIMEZONE
TZID:Europe/Zurich
TZUNTIL:20251026T010000Z
BEGIN:STANDARD
TZNAME:CET
DTSTART:20231029T030000
TZOFFSETFROM:+0200
TZOFFSETTO:+0100
RDATE:20241027T030000
END:STANDARD
BEGIN:DAYLIGHT
TZNAME:CEST
DTSTART:20230326T020000
TZOFFSETFROM:+0100
TZOFFSETTO:+0200
RDATE:20240331T020000
RDATE:20250330T020000
END:DAYLIGHT
END:VTIMEZONE
BEGIN:VEVENT
UID:34666566-6364-4333-b736-306431396232
DTSTAMP:20260421T125223Z
CATEGORIES:Jazz
CLASS:PUBLIC
DESCRIPTION;ALTREP="CID:<FFFF__=0ABBE548DFE235B58f9e8a93d@coffeebean.com>":
 The 20th Century Songbook\nKommen Sie mit auf eine Reise durch die populär
 e Musik des 20. Jahrhunderts! Von Ella zu Adele\, von Louis zu Elvis\, von
  der Sousa’s Band zu den Beatles. Das farbige\, abwechslungsreiche Program
 m von «Bernold’s Five» lässt mit seinem bunten Panoptikum von Songs verbli
 chene Zeiten für einen kurzen Moment wieder aufleben.\nWährend des Konzert
 es werden Sie in eine andere Epoche entführt. «Bernold’s Five» sind in ihr
 er Interpretation fest im Jazz verwurzelt – immer unterhaltend und stilbew
 usst. Mit der ausdruckstarken Stimme von Barbara Balzan kommt eine wunderb
 ar neue und warme Farbe in den Sound des Quartetts.\nBarbara Balzan (voc)\
 , Jonas Knecht (as\, fl)\, Christoph Hegi (p)\, Hans Peter Künzle (db)\, T
 homas Bernold (dr)\nhttps://www.barbarabalzan.ch/de/
DTSTART:20231201T191500Z
DTEND:20231201T191500Z
GEO:00;0
LOCATION:
ORGANIZER:
SEQUENCE:1
SUMMARY:Bernold’s Five feat. Barbara Balzan
TRANSP:OPAQUE
URL:https://www.esse.bar/index.php/veranstaltungen/vergangene-veranstaltung
 en/1947-bernold-s-five-feat-barbara-balzan/2023-12-01-20-15
END:VEVENT
END:VCALENDAR
