BEGIN:VCALENDAR
VERSION:2.0
PRODID:-//ESSE Musicbar Winterthur//NONSGML kigkonsult.se iCalcreator 2.41.92//
CALSCALE:GREGORIAN
METHOD:PUBLISH
UID:33346266-6464-4332-a362-666339666663
X-WR-CALNAME:iCagenda
X-WR-CALDESC:Event Management Extension for Joomla!
X-WR-RELCALID:3E26604A-50F4-4449-8B3E-E4F4932D05B5
X-WR-TIMEZONE:Europe/Zurich
BEGIN:VTIMEZONE
TZID:Europe/Zurich
TZUNTIL:20251026T010000Z
BEGIN:STANDARD
TZNAME:CET
DTSTART:20221030T030000
TZOFFSETFROM:+0200
TZOFFSETTO:+0100
RDATE:20231029T030000
RDATE:20241027T030000
END:STANDARD
BEGIN:DAYLIGHT
TZNAME:CEST
DTSTART:20230326T020000
TZOFFSETFROM:+0100
TZOFFSETTO:+0200
RDATE:20240331T020000
RDATE:20250330T020000
END:DAYLIGHT
END:VTIMEZONE
BEGIN:VEVENT
UID:34383264-3530-4439-a136-643831643532
DTSTAMP:20260423T102059Z
CATEGORIES:Blues
CLASS:PUBLIC
DESCRIPTION;ALTREP="CID:<FFFF__=0ABBE548DFE235B58f9e8a93d@coffeebean.com>":
 «The Mojo Swamp» ist… alter Blues\, Jazz\, Swing\, Jive und doch auch ein 
 wenig Rockabilly. Ob mit Kontrabass\, Sax\, Waschbrett\, Drums oder auch e
 infach mit einer Solo-Nummer: Mit Mag O‘Lee und seiner «The Mojo Big Band»
  (ein Trio) wird alles zu einem zauber-sumpfigen Erlebnis.\nMag O‘Lee ist 
 kein Unbekannter in der Bluesszene und zusammen mit seiner eigenen Band od
 er mit «Famara»\, Pink Pedrazzi oder «Leegreen» seit über 30 Jahren auf al
 len Bühnen in der Schweiz zuhause.\nVon Liebe und deren Tücken\, von Herum
 treibern\, Erwartungen\, Betrug und natürlich dem Fluss des Lebens wie dem
  „Deep River“ handeln die Songs. Aber auch eigene Songs aus der Feder von 
 Szilagyi sind dabei\, ob aus glücklichen Zeiten\, wo er seine Ehefrau kenn
 enlernte oder aus schweren\, in denen er mit „inneren Dämonen“ zu kämpfen 
 hatte\, die wie Höllenhunde seine Knochen erzittern liessen.\nÜbrigens: «M
 ojo» ist der Zauber\, mit dem Blueser aus aller Welt kommunizieren\, ohne 
 Worte zu gebrauchen. «Mojo Swamp» bedeutet demnach wörtlich «Zaubersumpf»:
  Der Name der Band ist Programm.\nMagor Szilagyi (voc\, g)\, Thomas Jeker 
 (db)\, Don Wolfo aka Wölfli (dr\, perc)\nhttps://themojoswamp.ch
DTSTART:20231006T181500Z
DTEND:20231006T181500Z
GEO:00;0
LOCATION:
ORGANIZER:
SEQUENCE:1
SUMMARY:The Mojo Swamp – From Swing to Blues
TRANSP:OPAQUE
URL:https://www.esse.bar/index.php/veranstaltungen/vergangene-veranstaltung
 en/1948-the-mojo-swamp-from-swing-to-blues/2023-10-06-20-15
END:VEVENT
END:VCALENDAR
