BEGIN:VCALENDAR
VERSION:2.0
PRODID:-//ESSE Musicbar Winterthur//NONSGML kigkonsult.se iCalcreator 2.41.92//
CALSCALE:GREGORIAN
METHOD:PUBLISH
UID:66323036-3666-4163-b836-313064346538
X-WR-CALNAME:iCagenda
X-WR-CALDESC:Event Management Extension for Joomla!
X-WR-RELCALID:3E26604A-50F4-4449-8B3E-E4F4932D05B5
X-WR-TIMEZONE:Europe/Zurich
BEGIN:VTIMEZONE
TZID:Europe/Zurich
TZUNTIL:20251026T010000Z
BEGIN:STANDARD
TZNAME:CET
DTSTART:20231029T030000
TZOFFSETFROM:+0200
TZOFFSETTO:+0100
RDATE:20241027T030000
END:STANDARD
BEGIN:DAYLIGHT
TZNAME:CEST
DTSTART:20230326T020000
TZOFFSETFROM:+0100
TZOFFSETTO:+0200
RDATE:20240331T020000
RDATE:20250330T020000
END:DAYLIGHT
END:VTIMEZONE
BEGIN:VEVENT
UID:38313433-6661-4833-b934-333361383737
DTSTAMP:20260423T084752Z
CATEGORIES:Jazz
CLASS:PUBLIC
DESCRIPTION;ALTREP="CID:<FFFF__=0ABBE548DFE235B58f9e8a93d@coffeebean.com>":
 Ein Konzert des «Jazz Chamber Trio» bietet vielfältige Klangspektren\, ein
 dringende Harmoniegeflechte und vereint emotionale Momente. Die drei Musik
 er spielen vorwiegend Eigenkompositionen und gehen dabei meist von einfach
 en Ideen aus\, die auf spielerische Weise weiterentwickelt werden.\nDie Vi
 elseitigkeit von Marco Sigrists Gitarrenspiel entführt mal in ferne musika
 lische Welten\, mal bedient sie sich traditioneller mitteleuropäischer Str
 ukturen. Was mit einer unverkennbaren Flamenco-Note beginnt\, kann wenig s
 päter zu einem Walzer übergehen\, um schon bald als stampfendes Ostinato w
 ieder in eine neue Klangdimension abzutauchen.\nDazu erklingt die lyrische
  Trompete von Beat Bossart. Seine unermüdliche Suche nach gehaltvollen Mel
 odien verleiht dem Trio eine spontane Note\, die von den Musikern verlangt
 \, sich immer wieder auf neue Interaktionen einzulassen. Es hängt alles vo
 n der momentanen Perspektive ab.\nDer Ideenreichtum und die Virtuosität vo
 n David Reitz drücken dem Gesamtsound des Trios schliesslich einen unverke
 nnbaren Stempel auf. Der versierte Cellist sorgt mit seinen frischen\, gew
 agten Ideen immer wieder für musikalische Überraschungen und fordert dabei
  nicht nur seine Mitmusiker\, sondern auch das Publikum heraus.\nDie drei 
 Musiker verstehen es\, ihre Ideen zu einem Gesamtwerk zu verschmelzen\, we
 lches einlädt\, sich vom «Jazz Chamber Trio» treiben zu lassen und ein anh
 altendes Musikerlebnis zu geniessen.\nMarco Sigrist (g)\, Beat Bossart (tp
 \, flh)\, David Reitz (cello)\nhttps://thejazzchambertrio.ch
DTSTART:20231129T191500Z
DTEND:20231129T191500Z
GEO:00;0
LOCATION:
ORGANIZER:
SEQUENCE:1
SUMMARY:The Jazz Chamber Trio
TRANSP:OPAQUE
URL:https://www.esse.bar/index.php/veranstaltungen/vergangene-veranstaltung
 en/1960-the-jazz-chamber-trio/2023-11-29-20-15
END:VEVENT
END:VCALENDAR
