BEGIN:VCALENDAR
VERSION:2.0
PRODID:-//ESSE Musicbar Winterthur//NONSGML kigkonsult.se iCalcreator 2.41.92//
CALSCALE:GREGORIAN
METHOD:PUBLISH
UID:31663832-6565-4566-b935-663731653661
X-WR-CALNAME:iCagenda
X-WR-CALDESC:Event Management Extension for Joomla!
X-WR-RELCALID:3E26604A-50F4-4449-8B3E-E4F4932D05B5
X-WR-TIMEZONE:Europe/Zurich
BEGIN:VTIMEZONE
TZID:Europe/Zurich
TZUNTIL:20251026T010000Z
BEGIN:STANDARD
TZNAME:CET
DTSTART:20231029T030000
TZOFFSETFROM:+0200
TZOFFSETTO:+0100
RDATE:20241027T030000
END:STANDARD
BEGIN:DAYLIGHT
TZNAME:CEST
DTSTART:20230326T020000
TZOFFSETFROM:+0100
TZOFFSETTO:+0200
RDATE:20240331T020000
RDATE:20250330T020000
END:DAYLIGHT
END:VTIMEZONE
BEGIN:VEVENT
UID:36316432-3935-4862-b933-303765313739
DTSTAMP:20260423T101918Z
CATEGORIES:Jazz
CLASS:PUBLIC
DESCRIPTION;ALTREP="CID:<FFFF__=0ABBE548DFE235B58f9e8a93d@coffeebean.com>":
 Was vor Jahren unter den WIAM-Dozenten begann\, soll auch diesen Herbst wi
 eder erklingen: «Pius Da Mutten’s Favorite Things» mit Alfons Struzek am P
 iano\, Thomy Jordi am Bass\, Silvano Borzacchiello an den Drums\, der Gita
 rrist Thomas Töngi und der Saxer Pius Da Mutten haben wieder Lust miteinan
 der zu spielen. Alle Musiker bringen eine stilistisch breite Erfahrung von
  Jazz\, Blues\, Rock und Pop mit\, Vollblutmusiker eben!\nObwohl vielbesch
 äftigt\, erklärten sind alle bereit\, bei diesem Projekt mitzuspielen Und 
 alle haben sie etwas gemeinsam: Sie sind vom Jazz\, Fusion- und Jazzrock d
 er 70- bis 90er angetan. Auch in diesem Jahr soll es um feine lyrische Tön
 e\, um groovige Arrangements und viel Freiraum fürs Interplay gehen. Und n
 atürlich: Im Vordergrund steht die Freude an der Musik!\nDie Tunes\, von P
 . Da Mutten arrangiert\, sind denn auch aus der Feder von u.a. Miles Davis
 \, Michael Brecker oder Bob Berg. Es sind vornehmlich die Lieblingsstücke 
 des Saxophonisten\, seine „favorites“ eben!\nPius Da Mutten (s)\, Alfons S
 truzek (p\, keyb)\, Thomas Töngi (g)\, Thomy Jordi (b)\, Silvano Borzacchi
 ello (dr)
DTSTART:20231103T191500Z
DTEND:20231103T191500Z
GEO:00;0
LOCATION:
ORGANIZER:
SEQUENCE:1
SUMMARY:Pius Da Mutten’s Favorite Things
TRANSP:OPAQUE
URL:https://www.esse.bar/index.php/veranstaltungen/vergangene-veranstaltung
 en/1962-pius-da-mutten-s-favorite-things-2/2023-11-03-20-15
END:VEVENT
END:VCALENDAR
