BEGIN:VCALENDAR
VERSION:2.0
PRODID:-//ESSE Musicbar Winterthur//NONSGML kigkonsult.se iCalcreator 2.41.92//
CALSCALE:GREGORIAN
METHOD:PUBLISH
UID:37303261-3261-4661-a530-393865623236
X-WR-CALNAME:iCagenda
X-WR-CALDESC:Event Management Extension for Joomla!
X-WR-RELCALID:3E26604A-50F4-4449-8B3E-E4F4932D05B5
X-WR-TIMEZONE:Europe/Zurich
BEGIN:VTIMEZONE
TZID:Europe/Zurich
TZUNTIL:20251026T010000Z
BEGIN:STANDARD
TZNAME:CET
DTSTART:20231029T030000
TZOFFSETFROM:+0200
TZOFFSETTO:+0100
RDATE:20241027T030000
END:STANDARD
BEGIN:DAYLIGHT
TZNAME:CEST
DTSTART:20230326T020000
TZOFFSETFROM:+0100
TZOFFSETTO:+0200
RDATE:20240331T020000
RDATE:20250330T020000
END:DAYLIGHT
END:VTIMEZONE
BEGIN:VEVENT
UID:30356562-6232-4833-b762-626639346538
DTSTAMP:20260423T102058Z
CATEGORIES:Jazz&More
CLASS:PUBLIC
DESCRIPTION;ALTREP="CID:<FFFF__=0ABBE548DFE235B58f9e8a93d@coffeebean.com>":
 «CoalJazz» nennt sich ein neu gegründetes Quartett\, welches bekannte\, ab
 er auch unbekanntere Jazz-\, Latin- und Pop-Titel nach eigenen Arrangement
 s spielt. Schnell hat sich die groovige Band um Sängerin Eveline Sutter ei
 nen Namen gemacht und ist deshalb neben den öffentlichen Konzerten auch an
  Firmen- und Privatanlässen gerne zu Gast.\nEs ist ein Genuss die frische 
 Formation live zu erleben. Sie verzaubert jeden Anlass und es macht Freude
  sie zu hören und zu sehen. Unterstützt werden «CoalJazz» auch an ihrem Wi
 nterthurer Auftritt von Saxophonist Steffen Arpagaus als Special Guest.\nE
 veline Sutter (voc)\, Lukas Schellenberg (p\, keyb)\, Willi Frauenfelder (
 db)\, Walter Vitale (dr)Special Guest: Steffen Arpagaus (s)\nhttps://youtu
 .be/Absr9y5YCJshttps://coaljazz.band
DTSTART:20231109T191500Z
DTEND:20231109T191500Z
GEO:00;0
LOCATION:
ORGANIZER:
SEQUENCE:1
SUMMARY:CoalJazz – Jazz\, Latin & Funk
TRANSP:OPAQUE
URL:https://www.esse.bar/index.php/veranstaltungen/vergangene-veranstaltung
 en/1963-coaljazz-jazz-latin-funk/2023-11-09-20-15
END:VEVENT
END:VCALENDAR
