BEGIN:VCALENDAR
VERSION:2.0
PRODID:-//ESSE Musicbar Winterthur//NONSGML kigkonsult.se iCalcreator 2.41.92//
CALSCALE:GREGORIAN
METHOD:PUBLISH
UID:36386532-3431-4137-a134-663034383030
X-WR-CALNAME:iCagenda
X-WR-CALDESC:Event Management Extension for Joomla!
X-WR-RELCALID:3E26604A-50F4-4449-8B3E-E4F4932D05B5
X-WR-TIMEZONE:Europe/Zurich
BEGIN:VTIMEZONE
TZID:Europe/Zurich
TZUNTIL:20251026T010000Z
BEGIN:STANDARD
TZNAME:CET
DTSTART:20231029T030000
TZOFFSETFROM:+0200
TZOFFSETTO:+0100
RDATE:20241027T030000
END:STANDARD
BEGIN:DAYLIGHT
TZNAME:CEST
DTSTART:20230326T020000
TZOFFSETFROM:+0100
TZOFFSETTO:+0200
RDATE:20240331T020000
RDATE:20250330T020000
END:DAYLIGHT
END:VTIMEZONE
BEGIN:VEVENT
UID:36363861-6662-4462-b631-313066663666
DTSTAMP:20260423T084848Z
CATEGORIES:Jazz
CLASS:PUBLIC
DESCRIPTION;ALTREP="CID:<FFFF__=0ABBE548DFE235B58f9e8a93d@coffeebean.com>":
 Natürlich ist Franz Hellmüller in erster Linie Gitarrist\, der sein Instru
 ment beherrscht\, ihm Klänge zu entlocken weiss\, die man von einer elektr
 ischen Gitarre so gar nicht erwarten würde\, und sich in einem unablässige
 n Dialog mit seinem Instrument befindet\, das für ihn viel mehr ist als nu
 r ein Klangerzeuger. Aber er ist auch ein Geschichtenerzähler\, der gute S
 torys im Repertoire und die Fähigkeit hat\, Handlungsverläufe und Charakte
 re in seiner Musik plausibel zu gestalten. Zugleich ist er ein Maler\, der
  seinen Figuren und Geschichten gleich noch die Kulissen und die komplette
  Umgebung mitliefert. Er schafft in seinen Klängen Bilder und Zustände von
  dreidimensionaler Tiefe.\nFranz Hellmüller ist ein Musiker\, der stets am
  Anfang steht. Alles bereits Vollbrachte ist immer nur der Ausgangspunkt f
 ür all das andere\, das noch vor ihm liegt. Für den weltoffenen Schweizer 
 besteht kein Unterschied zwischen seinem Musikmachen und Menschsein. Es sa
 gt sich so leicht dahin\, dass Kreativität nur aus einem Zustand der künst
 lerischen Unzufriedenheit entstehen kann. Hellmüller hält diesem Gemeinpla
 tz entgegen\, dass er in seiner Kunst auch Ruhe\, Glück und Gelassenheit g
 eniessen kann. Und mit ihm die Zuhörenden.\nAuch der zweite Gast an diesem
  Abend ist kein Unbekannter. Tobias Hunziker ist wohl in erster Linie Schl
 agzeuger und lehrt dies auch am Konservatorium Winterthur. Er wirkt aber a
 uch als Bandcoach und spielt ganz schön gut Klavier. Und Tobias ist Drumme
 r beim Power-Trio «DogOn» (8-ung: ESSE-Konzert am 23.11.23 – nicht verpass
 en!).\nMit dem «Poets»-Reihe Gründer Andi Zitz am Kontrabass präsentiert d
 as illustre Trio je ein Set aus den Alben «At the Deer Head Inn» von Keith
  Jarret (1994) und «Question and Answer» von Pat Metheny (1990).\nDon’t Fo
 rget The Poets #27 - für einmal ein Abend ohne Klavier.\nFranz Hellmüller 
 (g)\, Andi Zitz (db)\, Tobias Hunziker (dr)\nhttp://www.hellmuller.comhttp
 s://www.tobiashunziker.ch
DTSTART:20231124T191500Z
DTEND:20231124T191500Z
GEO:00;0
LOCATION:
ORGANIZER:
SEQUENCE:1
SUMMARY:Don’t Forget The Poets #27 – feat. Franz Hellmüller
TRANSP:OPAQUE
URL:https://www.esse.bar/index.php/veranstaltungen/vergangene-veranstaltung
 en/1968-don-t-forget-the-poets-27/2023-11-24-20-15
END:VEVENT
END:VCALENDAR
