BEGIN:VCALENDAR
VERSION:2.0
PRODID:-//ESSE Musicbar Winterthur//NONSGML kigkonsult.se iCalcreator 2.41.92//
CALSCALE:GREGORIAN
METHOD:PUBLISH
UID:62653631-3939-4631-b035-313238653833
X-WR-CALNAME:iCagenda
X-WR-CALDESC:Event Management Extension for Joomla!
X-WR-RELCALID:3E26604A-50F4-4449-8B3E-E4F4932D05B5
X-WR-TIMEZONE:Europe/Zurich
BEGIN:VTIMEZONE
TZID:Europe/Zurich
TZUNTIL:20251026T010000Z
BEGIN:STANDARD
TZNAME:CET
DTSTART:20231029T030000
TZOFFSETFROM:+0200
TZOFFSETTO:+0100
RDATE:20241027T030000
END:STANDARD
BEGIN:DAYLIGHT
TZNAME:CEST
DTSTART:20230326T020000
TZOFFSETFROM:+0100
TZOFFSETTO:+0200
RDATE:20240331T020000
RDATE:20250330T020000
END:DAYLIGHT
END:VTIMEZONE
BEGIN:VEVENT
UID:37643163-3762-4034-b531-623330636237
DTSTAMP:20260423T090137Z
CATEGORIES:Jazz
CLASS:PUBLIC
DESCRIPTION;ALTREP="CID:<FFFF__=0ABBE548DFE235B58f9e8a93d@coffeebean.com>":
 «Joey y Los Tos» singen und spielen Musik aus Südamerika. Vor allem die re
 ichhaltige und vielfältige Musikkultur der Karibik begeistert diese drei M
 usiker.\nZu ihrem Repertoire gehören Cha-Cha-Cha\, Rumba\, Bolero\, Son Cu
 bano\, Merengue und Cumbia\, auch Salsa genannt. Diese Lieder mit ihren tr
 eibenden Latin-Rhythmen werden vor allem von grösseren Bands und Salsa-Orc
 hestern gespielt.\nJoey &amp\; Los Tos singen und spielen diese Musik zu d
 ritt\, als eine Art «Bonsai Salsa Orchester».\nErich Fischer (vib\, voc)\,
  Roberto Koch (db)\, Yuvisney Aguilar (perc\, voc)\nhttps://www.erichfisch
 er-musik.ch/joey-y-los-tos
DTSTART:20231130T191500Z
DTEND:20231130T191500Z
GEO:00;0
LOCATION:
ORGANIZER:
SEQUENCE:1
SUMMARY:Joey Y Los Tos
TRANSP:OPAQUE
URL:https://www.esse.bar/index.php/veranstaltungen/vergangene-veranstaltung
 en/1969-joey-y-los-tos/2023-11-30-20-15
END:VEVENT
END:VCALENDAR
