BEGIN:VCALENDAR
VERSION:2.0
PRODID:-//ESSE Musicbar Winterthur//NONSGML kigkonsult.se iCalcreator 2.41.92//
CALSCALE:GREGORIAN
METHOD:PUBLISH
UID:36666665-3130-4962-a463-333565373232
X-WR-CALNAME:iCagenda
X-WR-CALDESC:Event Management Extension for Joomla!
X-WR-RELCALID:3E26604A-50F4-4449-8B3E-E4F4932D05B5
X-WR-TIMEZONE:Europe/Zurich
BEGIN:VTIMEZONE
TZID:Europe/Zurich
TZUNTIL:20251026T010000Z
BEGIN:STANDARD
TZNAME:CET
DTSTART:20231029T030000
TZOFFSETFROM:+0200
TZOFFSETTO:+0100
RDATE:20241027T030000
END:STANDARD
BEGIN:DAYLIGHT
TZNAME:CEST
DTSTART:20230326T020000
TZOFFSETFROM:+0100
TZOFFSETTO:+0200
RDATE:20240331T020000
RDATE:20250330T020000
END:DAYLIGHT
END:VTIMEZONE
BEGIN:VEVENT
UID:34366664-6234-4036-a130-643337313963
DTSTAMP:20260423T084847Z
CATEGORIES:Jazz
CLASS:PUBLIC
DESCRIPTION;ALTREP="CID:<FFFF__=0ABBE548DFE235B58f9e8a93d@coffeebean.com>":
 Keine Tasten\, keine Saiten\, dafür viel Raum für neue Klänge. Stimme\, Tr
 ompete und Baritonsax tanzend im Wechselbad und Rollentausch von Solist un
 d Begleiter. Drums und Bass für Groove und bunte Farben.\nAls Inspiration 
 und Auslöser dieses Projektes können Gerry Mulligan\, Chet Baker und Annie
  Ross herhalten\, die bereits in den 50er-Jahren diese ungewöhnliche Beset
 zung ohne Akkordinstrument lancierten.\nBei «Racine Rhythm &amp\; Horns» h
 errscht absolute Demokratie: jedes Bandmitglied ist zugleich Solist und Be
 gleiter. Wenig Grenzen und neue Perspektiven sind der Repertoire-Wahl zutr
 äglich - Hauptsache es passt zur Besetzung.\nMarianne Racine (voc)\, Danie
 l Baschnagel (tp)\, Matthias Tschopp (bs)\, Patrick Sommer (db\, ssph)\, A
 ndi Wettstein (dr)\nhttps://www.racinevoc.ch
DTSTART:20231206T191500Z
DTEND:20231206T191500Z
GEO:00;0
LOCATION:
ORGANIZER:
SEQUENCE:1
SUMMARY:Racine Rhythm and Horns
TRANSP:OPAQUE
URL:https://www.esse.bar/index.php/veranstaltungen/vergangene-veranstaltung
 en/1970-racine-rhythm-and-horns/2023-12-06-20-15
END:VEVENT
END:VCALENDAR
