BEGIN:VCALENDAR
VERSION:2.0
PRODID:-//ESSE Musicbar Winterthur//NONSGML kigkonsult.se iCalcreator 2.41.92//
CALSCALE:GREGORIAN
METHOD:PUBLISH
UID:31306466-3539-4637-b834-306339653561
X-WR-CALNAME:iCagenda
X-WR-CALDESC:Event Management Extension for Joomla!
X-WR-RELCALID:3E26604A-50F4-4449-8B3E-E4F4932D05B5
X-WR-TIMEZONE:Europe/Zurich
BEGIN:VTIMEZONE
TZID:Europe/Zurich
TZUNTIL:20251026T010000Z
BEGIN:STANDARD
TZNAME:CET
DTSTART:20231029T030000
TZOFFSETFROM:+0200
TZOFFSETTO:+0100
RDATE:20241027T030000
END:STANDARD
BEGIN:DAYLIGHT
TZNAME:CEST
DTSTART:20230326T020000
TZOFFSETFROM:+0100
TZOFFSETTO:+0200
RDATE:20240331T020000
RDATE:20250330T020000
END:DAYLIGHT
END:VTIMEZONE
BEGIN:VEVENT
UID:39303637-6236-4337-b333-373163613237
DTSTAMP:20260423T090421Z
CATEGORIES:Jazz
CLASS:PUBLIC
DESCRIPTION;ALTREP="CID:<FFFF__=0ABBE548DFE235B58f9e8a93d@coffeebean.com>":
 «Black Dog» ist ein deutsch-schweizerisches Kollektiv\, das sich dem Blues
  verschrieben hat.\nDer Bandname bezieht sich auf Winston Churchills Besch
 reibung seiner dunkelsten Stimmungen. Der ehemalige britische Premierminis
 ter war bekannt dafür\, mit schwerer Melancholie und periodischen Depressi
 onen zu kämpfen. Um diese dunklen Phasen zu beschreiben\, verwendete er di
 e Metapher des 'schwarzen Hundes'\, der ihn verfolgt und umgibt. Was liegt
  näher\, als ein Bluesprojekt «Black Dog» zu taufen?\nDas Quartett spielt 
 eine fesselnde Symbiose aus Blues\, Boogaloo und Soul-Jazz. Die Musik erze
 ugt eine emotionale Tiefe\, die sowohl Melancholie als auch Hoffnung in ih
 rem Kern trägt. So ist der Bandname eine Hommage an die menschliche Erfahr
 ung der dunklen Momente\, die wir alle in unterschiedlicher Intensität erl
 eben und gleichzeitig die musikalische Umsetzung des Widerstandes gegen di
 esen schwarzen Hund\, der uns in solchen Momenten verfolgt - musikalische 
 Poesie\, die das Wechselspiel von Licht und Schatten in sich trägt.\nAxel 
 Fischbacher (g)\, Christoph Grab (s)\, Thomas Bauser (hammond)\, Mareike W
 iening (dr)\nwww.axelfischbacher.comwww.christophgrab.comwww.thomasbauser.
 dehttps://mareikewiening.com/
DTSTART:20231214T191500Z
DTEND:20231214T191500Z
GEO:00;0
LOCATION:
ORGANIZER:
SEQUENCE:1
SUMMARY:Christoph Grab's Black Dog – Blues\, Boogaloo\, Soul-Jazz
TRANSP:OPAQUE
URL:https://www.esse.bar/index.php/veranstaltungen/vergangene-veranstaltung
 en/1971-black-dog-blues-boogaloo-soul-jazz/2023-12-14-20-15
END:VEVENT
END:VCALENDAR
