BEGIN:VCALENDAR
VERSION:2.0
PRODID:-//ESSE Musicbar Winterthur//NONSGML kigkonsult.se iCalcreator 2.41.92//
CALSCALE:GREGORIAN
METHOD:PUBLISH
UID:30633231-3162-4831-b736-663039626632
X-WR-CALNAME:iCagenda
X-WR-CALDESC:Event Management Extension for Joomla!
X-WR-RELCALID:3E26604A-50F4-4449-8B3E-E4F4932D05B5
X-WR-TIMEZONE:Europe/Zurich
BEGIN:VTIMEZONE
TZID:Europe/Zurich
TZUNTIL:20251026T010000Z
BEGIN:STANDARD
TZNAME:CET
DTSTART:20231029T030000
TZOFFSETFROM:+0200
TZOFFSETTO:+0100
RDATE:20241027T030000
END:STANDARD
BEGIN:DAYLIGHT
TZNAME:CEST
DTSTART:20230326T020000
TZOFFSETFROM:+0100
TZOFFSETTO:+0200
RDATE:20240331T020000
RDATE:20250330T020000
END:DAYLIGHT
END:VTIMEZONE
BEGIN:VEVENT
UID:33623138-3465-4265-b439-613031616339
DTSTAMP:20260423T085959Z
CATEGORIES:Jazz
CLASS:PUBLIC
DESCRIPTION;ALTREP="CID:<FFFF__=0ABBE548DFE235B58f9e8a93d@coffeebean.com>":
 «Rhythm Is King» ist das Debütalbum des «Jochro-Trio»\, das die unterschie
 dlichen Stilrichtungen zeitgenössischer Jazz-Idiome erforscht und so seine
  ganz eigene Definition von Soul-Jazz kreiert. Inspiriert von den Rhythmen
  und Zyklen der Natur\, spielt das Trio Originalkompositionen und Jazzstan
 dards\, die durch zentrale Rhythmus- und Groove-Zyklen definiert sind. Die
  ursprünglichen Ideen stammen hauptsächlich vom Pianisten Fabian Jochro\, 
 aber die Kompositionen entfalten sich wie in der Natur im Zusammenspiel al
 ler Mitglieder des Trios.\nFabian Jochro (p) aus Luzern\, Thomas Brühwiler
  (b) Nähe Winterthur und Corsin Hobi (dr) aus Zürich leben ihre Leidenscha
 ft für groovigen und tanzbaren Instrumental-Jazz. Sie komponieren eigene S
 ongs\, mischen alte Jazzklassiker mit neuen Interpretationen auf und verja
 zzen auch mal Popsongs. Immer darauf bedacht\, dass die Musik hörbar und v
 erständlich bleibt. Für das Konzert in der ESSE-Bar wird das Trio ergänzt 
 mit dem Winterthurer Saxophonisten Raffaele Lunardi.\nFabian Jochro (p)\, 
 Thomas Brühwiler (b)\, Corsin Hobi (dr)\, Special Guest: Raffaele Lunardi 
 (s)\nhttps://jochro-trio.ch
DTSTART:20231207T191500Z
DTEND:20231207T191500Z
GEO:00;0
LOCATION:
ORGANIZER:
SEQUENCE:1
SUMMARY:Jochro-Trio feat. Raffaele Lunardi – «Rhythm Is King»
TRANSP:OPAQUE
URL:https://www.esse.bar/index.php/veranstaltungen/vergangene-veranstaltung
 en/1977-jochro-trio/2023-12-07-20-15
END:VEVENT
END:VCALENDAR
