BEGIN:VCALENDAR
VERSION:2.0
PRODID:-//ESSE Musicbar Winterthur//NONSGML kigkonsult.se iCalcreator 2.41.92//
CALSCALE:GREGORIAN
METHOD:PUBLISH
UID:63303532-3764-4931-a461-636638653363
X-WR-CALNAME:iCagenda
X-WR-CALDESC:Event Management Extension for Joomla!
X-WR-RELCALID:3E26604A-50F4-4449-8B3E-E4F4932D05B5
X-WR-TIMEZONE:Europe/Zurich
BEGIN:VTIMEZONE
TZID:Europe/Zurich
TZUNTIL:20251026T010000Z
BEGIN:STANDARD
TZNAME:CET
DTSTART:20231029T030000
TZOFFSETFROM:+0200
TZOFFSETTO:+0100
RDATE:20241027T030000
END:STANDARD
BEGIN:DAYLIGHT
TZNAME:CEST
DTSTART:20230326T020000
TZOFFSETFROM:+0100
TZOFFSETTO:+0200
RDATE:20240331T020000
RDATE:20250330T020000
END:DAYLIGHT
END:VTIMEZONE
BEGIN:VEVENT
UID:37373666-3635-4338-b462-343930343965
DTSTAMP:20260423T090137Z
CATEGORIES:Jazz
CLASS:PUBLIC
DESCRIPTION;ALTREP="CID:<FFFF__=0ABBE548DFE235B58f9e8a93d@coffeebean.com>":
 Auf ihrem neuen Album «Labyrinth» trifft die Saxofonistin Nicole Johänntge
 n auf den Tubisten Jon Hansen und den Perkussionisten David Stauffacher. N
 icole Johänntgens neue Stücke kommen kraftvoll daher. «Für uns fühlt sich 
 alles extrem frisch an» beschreibt die Musikerin die Stimmung bei der Reco
 rding Session. «Labyrinth» ist groovig\, experimentierfreudig\, mal melanc
 holisch und hier und da hört man das Flair der Motown Ära der 70er-Jahre. 
 Wenn die Saxophonistin Musik kreiert\, blickt sie gerne tief. Bei ihr hat 
 alles damit zu tun\, das Leben zu spüren und zu reflektieren.\n«Labyrinth»
  ist Jazz\, wie ihn Nicole Johänntgen versteht. Es ist die Kunst\, Widersp
 rüche aufzulösen. Alles klingt so\, als wäre es irgendwo draussen\, sponta
 n auf einer Session entstanden. Aber dahinter verbirgt sich viel mehr. Bie
 tet doch die unkonventionelle Besetzung Saxophon\, Tuba und Perkussion ung
 eahnte neueMöglichkeiten. Der reduzierte Ansatz geht voll auf und vereint 
 die Stärken der letzten Johänntgen-Projekte: den melodischen Touch ihrer S
 oloaufnahmen und die Wucht ihrer in New Orleans gegründeten Band «Henry». 
 Der Sound ist warm\, die Stimmung gelöst\, Südstaaten-Funk trifft auf frei
 en Blues\,\nNicole Johänntgen (s\, comp)\, Jon Hansen (tuba)\, David Stauf
 facher (perc)\nhttps://www.nicolejohaenntgen.com
DTSTART:20231208T191500Z
DTEND:20231208T191500Z
GEO:00;0
LOCATION:
ORGANIZER:
SEQUENCE:1
SUMMARY:Nicole Johänntgen – «Labyrinth»
TRANSP:OPAQUE
URL:https://www.esse.bar/index.php/veranstaltungen/vergangene-veranstaltung
 en/1978-nicole-johaenntgen-band/2023-12-08-20-15
END:VEVENT
END:VCALENDAR
