BEGIN:VCALENDAR
VERSION:2.0
PRODID:-//ESSE Musicbar Winterthur//NONSGML kigkonsult.se iCalcreator 2.41.92//
CALSCALE:GREGORIAN
METHOD:PUBLISH
UID:36393564-6532-4564-b966-346431663831
X-WR-CALNAME:iCagenda
X-WR-CALDESC:Event Management Extension for Joomla!
X-WR-RELCALID:3E26604A-50F4-4449-8B3E-E4F4932D05B5
X-WR-TIMEZONE:Europe/Zurich
BEGIN:VTIMEZONE
TZID:Europe/Zurich
TZUNTIL:20251026T010000Z
BEGIN:STANDARD
TZNAME:CET
DTSTART:20231029T030000
TZOFFSETFROM:+0200
TZOFFSETTO:+0100
RDATE:20241027T030000
END:STANDARD
BEGIN:DAYLIGHT
TZNAME:CEST
DTSTART:20230326T020000
TZOFFSETFROM:+0100
TZOFFSETTO:+0200
RDATE:20240331T020000
RDATE:20250330T020000
END:DAYLIGHT
END:VTIMEZONE
BEGIN:VEVENT
UID:31626362-3361-4161-a264-313035373933
DTSTAMP:20260423T090114Z
CATEGORIES:Jazz
CLASS:PUBLIC
DESCRIPTION;ALTREP="CID:<FFFF__=0ABBE548DFE235B58f9e8a93d@coffeebean.com>":
 Alle Jahre wieder! Während draussen der Schnee leise rieselt\, feiern «The
  Sad Pumpkins»\, in wohliger Wärme\, Weihnachten auf ihre eigene Art: Sad 
 Christmas! Weihnachtliche Stimmung mit einer Portion Herzschmerz.\nNiculin
  «MC Hoboken» Janett führt mit der standesgemässen Coolness durch den Aben
 d\, an dem ein Weihnachtsklassiker den nächsten jagt. Unterstützung erhält
  er wie gewohnt von Noam «50 Shekels» Szyfer an der Gitarre\, Mischa «Drop
  the B» Frey am Kontrabass und Maxime «Lil’ Drumma Boy» Paratte am Schlagz
 eug.\n«The Sad Pumpkins» präsentieren das Christmas Songbook so\, wie es s
 ich gehört! Leicht unterkühlt\, aber doch herzerwärmend. Verraucht und den
 noch clean. Humorvoll\, jedoch immer tiefgründig. Verdammt cool – so wie d
 er Martini\, den man dazu trinkt.\nNiculin Janett (voc\, s)\, Noam Szyfer 
 (g)\, Mischa Frey (db)\, Maxime Paratte (dr)\nhttp://www.niculinjanett.ch/
 portfolio/the-sad-pumpkins/
DTSTART:20231222T191500Z
DTEND:20231222T191500Z
GEO:00;0
LOCATION:
ORGANIZER:
SEQUENCE:1
SUMMARY:The Sad Pumpkins – «Sad Christmas»
TRANSP:OPAQUE
URL:https://www.esse.bar/index.php/veranstaltungen/vergangene-veranstaltung
 en/1979-the-sad-pumpkins-5/2023-12-22-20-15
END:VEVENT
END:VCALENDAR
