BEGIN:VCALENDAR
VERSION:2.0
PRODID:-//ESSE Musicbar Winterthur//NONSGML kigkonsult.se iCalcreator 2.41.92//
CALSCALE:GREGORIAN
METHOD:PUBLISH
UID:38653432-3039-4162-a563-623064643765
X-WR-CALNAME:iCagenda
X-WR-CALDESC:Event Management Extension for Joomla!
X-WR-RELCALID:3E26604A-50F4-4449-8B3E-E4F4932D05B5
X-WR-TIMEZONE:Europe/Zurich
BEGIN:VTIMEZONE
TZID:Europe/Zurich
TZUNTIL:20251026T010000Z
BEGIN:STANDARD
TZNAME:CET
DTSTART:20231029T030000
TZOFFSETFROM:+0200
TZOFFSETTO:+0100
RDATE:20241027T030000
END:STANDARD
BEGIN:DAYLIGHT
TZNAME:CEST
DTSTART:20230326T020000
TZOFFSETFROM:+0100
TZOFFSETTO:+0200
RDATE:20240331T020000
RDATE:20250330T020000
END:DAYLIGHT
END:VTIMEZONE
BEGIN:VEVENT
UID:38396566-3535-4935-a164-663966336334
DTSTAMP:20260423T084809Z
CATEGORIES:Electro-Pop
CLASS:PUBLIC
DESCRIPTION;ALTREP="CID:<FFFF__=0ABBE548DFE235B58f9e8a93d@coffeebean.com>":
 Frisch von der Leber weg\, vor Spielfreude nur so strotzend und ohne stili
 stische Scheuklappen und puristische Hintergedanken durchmessen «DogOn» ih
 r selbst ausgestecktes Revier. Gitarrist und Komponist Eric Hunziker\, der
  Bassist Thomas Tavano sowie Tobias Hunziker am Schlagzeug mögen es deftig
 . Mal donnert es rockig\, mal klingt es jazzig\, dann folgen filigrane Imp
 rovisationen und mysteriöse Klangcollagen\, um schliesslich wieder zu funk
 igen Grooves zurückzukehren.\nDas Trio\, das aus dem Umfeld der Musikhochs
 chule Luzern stammt\, navigiert sein Sound-Raumschiff durch stilistische S
 phären und steuert es souverän durch delikate Meteoritenschauer und geheim
 nisvolle Klangnebel. Der dabei zu Tage tretende Sound mag Kenner:innen vie
 lleicht an Tribal Tech\, Bunny Brunel oder Wayne Krantz erinnern. «DogOn» 
 aber haben längst einen völlig eigenen Sound entwickelt\, mit dem sie sich
  seit ihren beiden Platten «Rotten Rainbow Rollercoaster» und «Floater» ni
 cht nur in ihrer eidgenössischen Heimat einen Namen geschaffen haben.\nDie
  eigentliche Qualität des groovenden Dreiers liegt allerdings in der Tatsa
 che\, sich nicht nur mithilfe der Energie von Hunzikers Gitarre fortbewege
 n zu können. «DogOn» nutzen für ihren Trip durch die unendlichen Weiten de
 r modernen Musik auch die Kräfte des treibenden\, sechssaitigen Basses von
  Tavano und die messerscharf akzentuierten Beats von Drummer Tobias Hunzik
 er. Insofern verfügt das Raumschiff nicht nur über einen starken Kapitän\,
  sondern auch über eine überaus qualifizierte und motivierte Besatzung. Un
 d die kann sich unter Garantie in jedem Winkel des Universums Gehör versch
 affen.\nEric Hunziker (g\, comp)\, Thomas Tavano (eb)\, Tobias Hunziker (d
 r)\nhttp://www.dogon.ch
DTSTART:20231123T191500Z
DTEND:20231123T191500Z
GEO:00;0
LOCATION:
ORGANIZER:
SEQUENCE:1
SUMMARY:DogOn – Electric Groove-Jazz
TRANSP:OPAQUE
URL:https://www.esse.bar/index.php/veranstaltungen/vergangene-veranstaltung
 en/1981-dogon-electric-groove-jazz/2023-11-23-20-15
END:VEVENT
END:VCALENDAR
