BEGIN:VCALENDAR
VERSION:2.0
PRODID:-//ESSE Musicbar Winterthur//NONSGML kigkonsult.se iCalcreator 2.41.92//
CALSCALE:GREGORIAN
METHOD:PUBLISH
UID:39366439-3335-4134-b066-336637643963
X-WR-CALNAME:iCagenda
X-WR-CALDESC:Event Management Extension for Joomla!
X-WR-RELCALID:3E26604A-50F4-4449-8B3E-E4F4932D05B5
X-WR-TIMEZONE:Europe/Zurich
BEGIN:VTIMEZONE
TZID:Europe/Zurich
TZUNTIL:20251026T010000Z
BEGIN:STANDARD
TZNAME:CET
DTSTART:20231029T030000
TZOFFSETFROM:+0200
TZOFFSETTO:+0100
RDATE:20241027T030000
END:STANDARD
BEGIN:DAYLIGHT
TZNAME:CEST
DTSTART:20230326T020000
TZOFFSETFROM:+0100
TZOFFSETTO:+0200
RDATE:20240331T020000
RDATE:20250330T020000
END:DAYLIGHT
END:VTIMEZONE
BEGIN:VEVENT
UID:34336563-6262-4430-b665-633935316334
DTSTAMP:20260423T085544Z
CATEGORIES:young people on stage
CLASS:PUBLIC
DESCRIPTION;ALTREP="CID:<FFFF__=0ABBE548DFE235B58f9e8a93d@coffeebean.com>":
 Spannende Winterthurer Nachwuchs-Bands der verschiedensten musikalischen R
 ichtungen. Vom Hackbrett-Duo bis zur achtköpfigen Pop-Band ist alles dabei
 !\nGesponsert wird diese Aktion vom KulturKomitee Winterthur. Radio Stadtf
 ilter wird die Konzerte aufnehmen und live streamen. Ausgestrahlt werden s
 ie zu einem späteren Zeitpunkt.\nKommt vorbei und hört euch live an\, wie 
 die Zukunft klingt!\n\nFiddle Jammer | 19:30Volksmusik aus dem Balkan und 
 aus aller Welt\nHayo Lee\, Noemi Strebel\, Luana Zuzak\, Rebekka Jelinek\,
  Salome Widmer - ViolineZippora Jelinek - Cello\, KlarinetteYaron Strebel 
 - TrompeteLeon Frey - BassElias Strebel - Perkussion\n \nMatch in a Box | 
 21:00Indie-Rock / Hip-Hop\nLena Zopfi - Gesang\, Bass\, GitarreAnja Lieske
  - Gesang\, Gitarre\, BassLeo Weber - Gitarre\, GesangArianna Varacalli - 
 Gitarre\, BassSeverin Kobelt - KeysOscar Meier - Drums
DTSTART:20231114T183000Z
DTEND:20231114T183000Z
GEO:00;0
LOCATION:
ORGANIZER:
SEQUENCE:1
SUMMARY:Winti-Winners
TRANSP:OPAQUE
URL:https://www.esse.bar/index.php/veranstaltungen/vergangene-veranstaltung
 en/1984-winti-winners-2/2023-11-14-19-30
END:VEVENT
END:VCALENDAR
