BEGIN:VCALENDAR
VERSION:2.0
PRODID:-//ESSE Musicbar Winterthur//NONSGML kigkonsult.se iCalcreator 2.41.92//
CALSCALE:GREGORIAN
METHOD:PUBLISH
UID:38646661-6530-4463-b938-373665643661
X-WR-CALNAME:iCagenda
X-WR-CALDESC:Event Management Extension for Joomla!
X-WR-RELCALID:3E26604A-50F4-4449-8B3E-E4F4932D05B5
X-WR-TIMEZONE:Europe/Zurich
BEGIN:VTIMEZONE
TZID:Europe/Zurich
TZUNTIL:20251026T010000Z
BEGIN:STANDARD
TZNAME:CET
DTSTART:20231029T030000
TZOFFSETFROM:+0200
TZOFFSETTO:+0100
RDATE:20241027T030000
END:STANDARD
BEGIN:DAYLIGHT
TZNAME:CEST
DTSTART:20230326T020000
TZOFFSETFROM:+0100
TZOFFSETTO:+0200
RDATE:20240331T020000
RDATE:20250330T020000
END:DAYLIGHT
END:VTIMEZONE
BEGIN:VEVENT
UID:64306632-6564-4838-b239-616564656366
DTSTAMP:20260423T084603Z
CATEGORIES:young people on stage
CLASS:PUBLIC
DESCRIPTION;ALTREP="CID:<FFFF__=0ABBE548DFE235B58f9e8a93d@coffeebean.com>":
 Spannende Winterthurer Nachwuchs-Bands der verschiedensten musikalischen R
 ichtungen. Vom Hackbrett-Duo bis zur achtköpfigen Pop-Band ist alles dabei
 !\nGesponsert wird diese Aktion vom KulturKomitee Winterthur. Radio Stadtf
 ilter wird die Konzerte aufnehmen und live streamen (oder nur der Ton Audi
 o only Player). Ausgestrahlt werden sie zu einem späteren Zeitpunkt.\nKomm
 t vorbei und hört euch live an\, wie die Zukunft klingt!\n\nThe Boosters |
  19:30Pop / Singer-Songwriter – Covers\nPauline Schäuble – vocRuben Gasser
  – pAmos Roth – ebDeron Kurtcuoglu – dr\n \nFlying Frogs | 21:00Rock – Eig
 enkompositionen\nFelix Jenni – GesangFrancesca Pellicioli – Gitarre\, Bass
 \, Backing VocalsConradin Laux – GitarreNoah Merinero – Bass\, KeysFlurin 
 Kasper – Schlagzeug
DTSTART:20231116T183000Z
DTEND:20231116T183000Z
GEO:00;0
LOCATION:
ORGANIZER:
SEQUENCE:1
SUMMARY:Winti-Winners
TRANSP:OPAQUE
URL:https://www.esse.bar/index.php/veranstaltungen/vergangene-veranstaltung
 en/1986-winti-winners-4/2023-11-16-19-30
END:VEVENT
END:VCALENDAR
