BEGIN:VCALENDAR
VERSION:2.0
PRODID:-//ESSE Musicbar Winterthur//NONSGML kigkonsult.se iCalcreator 2.41.92//
CALSCALE:GREGORIAN
METHOD:PUBLISH
UID:66336335-3233-4133-b762-646133363234
X-WR-CALNAME:iCagenda
X-WR-CALDESC:Event Management Extension for Joomla!
X-WR-RELCALID:3E26604A-50F4-4449-8B3E-E4F4932D05B5
X-WR-TIMEZONE:Europe/Zurich
BEGIN:VTIMEZONE
TZID:Europe/Zurich
TZUNTIL:20251026T010000Z
BEGIN:STANDARD
TZNAME:CET
DTSTART:20231029T030000
TZOFFSETFROM:+0200
TZOFFSETTO:+0100
RDATE:20241027T030000
END:STANDARD
BEGIN:DAYLIGHT
TZNAME:CEST
DTSTART:20230326T020000
TZOFFSETFROM:+0100
TZOFFSETTO:+0200
RDATE:20240331T020000
RDATE:20250330T020000
END:DAYLIGHT
END:VTIMEZONE
BEGIN:VEVENT
UID:39353663-6535-4565-b165-333963343335
DTSTAMP:20260423T085403Z
CATEGORIES:young people on stage
CLASS:PUBLIC
DESCRIPTION;ALTREP="CID:<FFFF__=0ABBE548DFE235B58f9e8a93d@coffeebean.com>":
 Spannende Winterthurer Nachwuchs-Bands der verschiedensten musikalischen R
 ichtungen. Vom Hackbrett-Duo bis zur achtköpfigen Pop-Band ist alles dabei
 !\nGesponsert wird diese Aktion vom KulturKomitee Winterthur. Radio Stadtf
 ilter wird die Konzerte aufnehmen und live streamen (oder nur der Ton Audi
 o only Player). Ausgestrahlt werden sie zu einem späteren Zeitpunkt.\nKomm
 t vorbei und hört euch live an\, wie die Zukunft klingt!\n\nAnanun | 19:30
 Jazz – Standards\nSarah Merinero – GesangNoah Merinero – KlavierLeon Frei 
 -– KontrabassDeron Kurtcuoglu – Schlagzeug\n \nSage Green | 21:00Covers – 
 von AnnenMayKantereit bis Queen\nAnaelle Girsberger – GesangSeraina Ganste
 r – Gesang Valeria Holderegger – GesangAnett Adrion – KlavierClara van Seu
 meren – GitarreMika Zimmermann – GitarreFleur Meyer – BassVictoria Gerrtse
 n – Schlagzeug
DTSTART:20231117T183000Z
DTEND:20231117T183000Z
GEO:00;0
LOCATION:
ORGANIZER:
SEQUENCE:1
SUMMARY:Winti-Winners
TRANSP:OPAQUE
URL:https://www.esse.bar/index.php/veranstaltungen/vergangene-veranstaltung
 en/1987-winti-winners-5/2023-11-17-19-30
END:VEVENT
END:VCALENDAR
