BEGIN:VCALENDAR
VERSION:2.0
PRODID:-//ESSE Musicbar Winterthur//NONSGML kigkonsult.se iCalcreator 2.41.92//
CALSCALE:GREGORIAN
METHOD:PUBLISH
UID:65626639-3838-4262-a265-313661643437
X-WR-CALNAME:iCagenda
X-WR-CALDESC:Event Management Extension for Joomla!
X-WR-RELCALID:3E26604A-50F4-4449-8B3E-E4F4932D05B5
X-WR-TIMEZONE:Europe/Zurich
BEGIN:VTIMEZONE
TZID:Europe/Zurich
TZUNTIL:20251026T010000Z
BEGIN:STANDARD
TZNAME:CET
DTSTART:20231029T030000
TZOFFSETFROM:+0200
TZOFFSETTO:+0100
RDATE:20241027T030000
END:STANDARD
BEGIN:DAYLIGHT
TZNAME:CEST
DTSTART:20230326T020000
TZOFFSETFROM:+0100
TZOFFSETTO:+0200
RDATE:20240331T020000
RDATE:20250330T020000
END:DAYLIGHT
END:VTIMEZONE
BEGIN:VEVENT
UID:63613563-3734-4562-b539-646566313963
DTSTAMP:20260423T090303Z
CATEGORIES:Folk & More
CLASS:PUBLIC
DESCRIPTION;ALTREP="CID:<FFFF__=0ABBE548DFE235B58f9e8a93d@coffeebean.com>":
 Dokumentarfilm &amp\; Live-Musik\nDer Tradition folgend starten wir auch d
 as Musikprogramm im neuen Jahr mit einem Konzert von Yvonne Moore und Mat 
 Callahan. Konzert? Nicht nur. Im Fokus steht diesmal das Multimedia-Projek
 t «Songs of Slavery and Emancipation»\, das Buch\, Album und Film umfasst.
  Mat Callahan und Yvonne Moore widmen sich damit kürzlich entdeckten Liede
 rn\, die von versklavten Menschen komponiert wurden\, und lange verscholle
 nen Liedern der Abolitionisten-Bewegung. In diesen Liedern wird nicht nur 
 die Empörung über die Sklaverei zum Ausdruck gebracht\, sondern auch zum m
 ilitanten Widerstand und zur Zerstörung des Systems der Sklaverei aufgeruf
 en. Ihr Ziel ist unmissverständlich: die Abschaffung der Sklaverei\, die E
 manzipation der afroamerikanischen Bevölkerung sowie Gleichheit und Gerech
 tigkeit für alle Menschen.\nMat Callahan &amp\; Yvonne Moore zeigen den Do
 kumentarfilm (mit deutschen Untertiteln) des Projektes\, sprechen im Ansch
 luss über die Relevanz dieser Lieder – auch mit Blick auf andauernde Unger
 echtigkeiten in unserer heutigen Gesellschaft und spielen anschliessend ei
 n Set mit Liedern aus dem Multimedia-Projekt und aus ihrem langjährigen Fu
 ndus.\nYvonne Moore (voc\, harp)\, Mat Callahan (g\, voc)\nwww.matandyvonn
 e.comwww.arthistorypolitics.com\nhttps://vimeo.com/825289616/a55b688c2e?sh
 are=copy\nFoto: Helmut Bär
DTSTART:20240107T183000Z
DTEND:20240107T183000Z
GEO:00;0
LOCATION:
ORGANIZER:
SEQUENCE:1
SUMMARY:Mat & Yvonne – «Songs of Slavery and Emancipation»
TRANSP:OPAQUE
URL:https://www.esse.bar/index.php/veranstaltungen/vergangene-veranstaltung
 en/1988-art-in-history-and-politics/2024-01-07-19-30
END:VEVENT
END:VCALENDAR
