BEGIN:VCALENDAR
VERSION:2.0
PRODID:-//ESSE Musicbar Winterthur//NONSGML kigkonsult.se iCalcreator 2.41.92//
CALSCALE:GREGORIAN
METHOD:PUBLISH
UID:65656234-3864-4135-b334-383234663666
X-WR-CALNAME:iCagenda
X-WR-CALDESC:Event Management Extension for Joomla!
X-WR-RELCALID:3E26604A-50F4-4449-8B3E-E4F4932D05B5
X-WR-TIMEZONE:Europe/Zurich
BEGIN:VTIMEZONE
TZID:Europe/Zurich
TZUNTIL:20251026T010000Z
BEGIN:STANDARD
TZNAME:CET
DTSTART:20231029T030000
TZOFFSETFROM:+0200
TZOFFSETTO:+0100
RDATE:20241027T030000
END:STANDARD
BEGIN:DAYLIGHT
TZNAME:CEST
DTSTART:20230326T020000
TZOFFSETFROM:+0100
TZOFFSETTO:+0200
RDATE:20240331T020000
RDATE:20250330T020000
END:DAYLIGHT
END:VTIMEZONE
BEGIN:VEVENT
UID:31346130-3536-4666-b430-636565386466
DTSTAMP:20260423T090254Z
CATEGORIES:Party
CLASS:PUBLIC
DESCRIPTION;ALTREP="CID:<FFFF__=0ABBE548DFE235B58f9e8a93d@coffeebean.com>":
 Bundesrats-Wahl 2023\nWir zeigen die Wahlen live ab 09:00 auf unserer Lein
 wand (SRF1). Bei Kaffee und Gipfel kann gemeinsam mit andern diskutiert un
 d spekuliert werden. Auch Jammern und Lästern ist erlaubt!\n\nDie Eidgenös
 sische Bundesversammlung wählt die Nachfolge von Alain Berset. Alle weiter
 en Bundesräte müssen in einer Wahl bestätigt werden.\nAm 13. Dezember 2023
  finden die Gesamterneuerungswahlen des Bundesrats und die Ersatzwahl für 
 den zurücktretenden Bundesrat Alain Berset statt. Im Fernsehen berichtet S
 RF 1 live aus dem Bundeshaus in Bern. Moderatorin Nathalie Christen analys
 iert die Wahl gemeinsam mit Politologieprofessor Adrian Vatter und begrüss
 t in der Sendung viele weitere Gäste: Politiker\, Parteipräsident:innen so
 wie die neu gewählte Person. (Text SRF)\n\nWer mag\, kann zum Mittagstisch
  bleiben -&gt\; Mittagstisch. Ausnahmsweise braucht es keine Anmeldung/Res
 ervation.\nSind wir gespannt\, wie sich der Siebner-Club nach diesem Wahlt
 ag zusammensetzt.
DTSTART:20231213T080000Z
DTEND:20231213T080000Z
GEO:00;0
LOCATION:
ORGANIZER:
SEQUENCE:1
SUMMARY:Bundesratswahl 2023 - Gipfeltreffen
TRANSP:OPAQUE
URL:https://www.esse.bar/index.php/veranstaltungen/vergangene-veranstaltung
 en/1991-bundesratswahl-2023-gipfeltreffen/2023-12-13-09-00
END:VEVENT
END:VCALENDAR
