BEGIN:VCALENDAR
VERSION:2.0
PRODID:-//ESSE Musicbar Winterthur//NONSGML kigkonsult.se iCalcreator 2.41.92//
CALSCALE:GREGORIAN
METHOD:PUBLISH
UID:36613831-3731-4837-a362-343038336533
X-WR-CALNAME:iCagenda
X-WR-CALDESC:Event Management Extension for Joomla!
X-WR-RELCALID:3E26604A-50F4-4449-8B3E-E4F4932D05B5
X-WR-TIMEZONE:Europe/Zurich
BEGIN:VTIMEZONE
TZID:Europe/Zurich
TZUNTIL:20251026T010000Z
BEGIN:STANDARD
TZNAME:CET
DTSTART:20231029T030000
TZOFFSETFROM:+0200
TZOFFSETTO:+0100
RDATE:20241027T030000
END:STANDARD
BEGIN:DAYLIGHT
TZNAME:CEST
DTSTART:20230326T020000
TZOFFSETFROM:+0100
TZOFFSETTO:+0200
RDATE:20240331T020000
RDATE:20250330T020000
END:DAYLIGHT
END:VTIMEZONE
BEGIN:VEVENT
UID:35363032-3431-4534-b635-376536643465
DTSTAMP:20260423T085706Z
CATEGORIES:Jazz
CLASS:PUBLIC
DESCRIPTION;ALTREP="CID:<FFFF__=0ABBE548DFE235B58f9e8a93d@coffeebean.com>":
 Das unter dem Pianisten Philipp Maria Rosenberg entstandene Piano-Trio «Ro
 twelsch» horcht zurück in eine Zeit\, in der Musikanten in einen Topf mit 
 fahrendem Gesindel\, mit «Zigeunern»\, mit den jüdischen reisenden Händler
 n\, den Ganoven\, Räubern und Banditen geworfen wurden. Rotwelsch war ihre
  Sprache\, deren Ausläufer bis heute in Parallelgesellschaften florieren.
 \nSie bietet einen faszinierenden Zugang zu eigentümlichen Identitäten am 
 Rande der bürgerlichen Gesellschaft\, die trotz argwöhnischer Blicke der A
 rrivierten einen grossen Einfluss auf die abendländische Kultur hatten. Wä
 hrend der Alltag dieser Randgänger hart und mit zahlreichen Entbehrungen v
 erknüpft war\, fanden idealisierte Vertreter dieser Welt den Weg auf die B
 ühnen und in die Romane des Bürgertums. \nDie Musik von «Rotwelsch» bezieh
 t sich spielerisch und schalkhaft auf diese kreative und sprachschöpferisc
 he Kultur sowie ihre romantisierte Spiegelung in der literarischen Welt. K
 raft und Spontaneität bezieht die Band aus der improvisierten Musik. Statt
  dem Real Book dienen unvergessene Klassiker der Operettenwelt als Basis f
 ür Neuinterpretationen. Rotwelsch vagabundiert zwischen diesen musikalisch
 en Welten und wagt den Drahtseilakt zwischen Kunst\, Krach und Kitsch.\nDu
 rch eine ausgeklügelte Harmonisierung erhalten die Melodien neue Farben un
 d dienen als ideale Grundlage für die improvisatorische Praxis. Mal baden 
 die Stücke in emotionalem\, warmem Schönklang\; mal zelebrieren sie den Sw
 ing\, den viele der lebhafteren Couplets bereits in sich tragen. Bass (Flo
 rian Kolb) und Schlagzeug (Lucas Johnson) lassen der Entfaltung der Melodi
 en viel Raum\, indem sie zur reduzierten Atmosphäre beitragen und den bauc
 higen\, klaren Klang in den Fokus rücken.\nPhilipp Maria Rosenberg (p)\, F
 lorian Kolb (db) und Lucas Johnson (dr)\nwww.rotwelsch.ch
DTSTART:20240111T191500Z
DTEND:20240111T191500Z
GEO:00;0
LOCATION:
ORGANIZER:
SEQUENCE:1
SUMMARY:Rotwelsch
TRANSP:OPAQUE
URL:https://www.esse.bar/index.php/veranstaltungen/vergangene-veranstaltung
 en/1997-rotwelsch/2024-01-11-20-15
END:VEVENT
END:VCALENDAR
