BEGIN:VCALENDAR
VERSION:2.0
PRODID:-//ESSE Musicbar Winterthur//NONSGML kigkonsult.se iCalcreator 2.41.92//
CALSCALE:GREGORIAN
METHOD:PUBLISH
UID:63386130-3835-4730-b135-646662663537
X-WR-CALNAME:iCagenda
X-WR-CALDESC:Event Management Extension for Joomla!
X-WR-RELCALID:3E26604A-50F4-4449-8B3E-E4F4932D05B5
X-WR-TIMEZONE:Europe/Zurich
BEGIN:VTIMEZONE
TZID:Europe/Zurich
TZUNTIL:20271031T010000Z
BEGIN:STANDARD
TZNAME:CET
DTSTART:20251026T030000
TZOFFSETFROM:+0200
TZOFFSETTO:+0100
RDATE:20261025T030000
END:STANDARD
BEGIN:DAYLIGHT
TZNAME:CEST
DTSTART:20260329T020000
TZOFFSETFROM:+0100
TZOFFSETTO:+0200
RDATE:20270328T020000
END:DAYLIGHT
END:VTIMEZONE
BEGIN:VEVENT
UID:62626663-6536-4365-b238-356232663031
DTSTAMP:20260422T084358Z
CATEGORIES:Jazz
CLASS:PUBLIC
DESCRIPTION;ALTREP="CID:<FFFF__=0ABBE548DFE235B58f9e8a93d@coffeebean.com>":
 Das «Zarek Silberschmidt Trio» verbindet die reiche Tradition des Gypsy-Ja
 zz mit grenzüberschreitenden Ansätzen der saitenbasierten Improvisation un
 d bringt so eine frische und dynamische Herangehensweise an den Jazz des 2
 0. Jahrhunderts. Mit grosser Achtung vor den Meistern interpretiert das Tr
 io klassische Stücke neu und schafft eine einzigartige Mischung aus reiche
 n Saitenklängen\, dynamischem Zusammenspiel und virtuoser Improvisation\, 
 die diesen zeitlosen Melodien neues Leben einhaucht.\nMit der Argentinien-
 Winterthurerin Sophie Lüssi (Geige)\, dem Italiener Gianni Narduzzi (Bass)
  und dem Neuseeländer Zarek Silberschmidt (Gitarre) vereint das Trio unter
 schiedliche musikalische Hintergründe und schafft so ein dynamisches Zusam
 menspiel\, innovative Arrangements und spontane Improvisationen\, die in e
 inem Klang münden\, der überraschend und zugleich tiefgründig ist. Gemeins
 am erschaffen sie eine musikalische Reise\, die sowohl intim als auch elek
 trisierend wirkt – sie ehren die Vergangenheit und schaffen gleichzeitig e
 ine eigene Stimme in der Gegenwart.\nZarek Silberschmidt (g)\, Sophie Lüss
 i (vl)\, Gianni Narduzzi (db)\nhttps://www.zareksilberschmidt.com
DTSTART:20260410T181500Z
DTEND:20260410T181500Z
GEO:00;0
LOCATION:
ORGANIZER:
SEQUENCE:1
SUMMARY:Zarek Silberschmidt Trio – Jazz Manouche
TRANSP:OPAQUE
URL:https://www.esse.bar/index.php/veranstaltungen/vergangene-veranstaltung
 en/2507-zarek-silberschmidt-trio/2026-04-10-20-15
END:VEVENT
END:VCALENDAR
