BEGIN:VCALENDAR
VERSION:2.0
PRODID:-//ESSE Musicbar Winterthur//NONSGML kigkonsult.se iCalcreator 2.41.92//
CALSCALE:GREGORIAN
METHOD:PUBLISH
UID:63336461-6636-4861-a532-323633613136
X-WR-CALNAME:iCagenda
X-WR-CALDESC:Event Management Extension for Joomla!
X-WR-RELCALID:3E26604A-50F4-4449-8B3E-E4F4932D05B5
X-WR-TIMEZONE:Europe/Zurich
BEGIN:VTIMEZONE
TZID:Europe/Zurich
TZUNTIL:20271031T010000Z
BEGIN:STANDARD
TZNAME:CET
DTSTART:20251026T030000
TZOFFSETFROM:+0200
TZOFFSETTO:+0100
RDATE:20261025T030000
END:STANDARD
BEGIN:DAYLIGHT
TZNAME:CEST
DTSTART:20250330T020000
TZOFFSETFROM:+0100
TZOFFSETTO:+0200
RDATE:20260329T020000
RDATE:20270328T020000
END:DAYLIGHT
END:VTIMEZONE
BEGIN:VEVENT
UID:30383532-6631-4336-a162-626139303137
DTSTAMP:20260424T095137Z
CATEGORIES:Jazz
CLASS:PUBLIC
DESCRIPTION;ALTREP="CID:<FFFF__=0ABBE548DFE235B58f9e8a93d@coffeebean.com>":
 «The Hawks Triad» ist ein schweizerisch‑argentinisches Trio\, das Instrume
 ntalmusik mit besten Zutaten aus Jazz\, Americana und Surfrock serviert. A
 uf ihrem neuen Album «Orillas» loten die drei Musiker klangliche Grenzgebi
 ete aus und verweben argentinische Folklore\, Anklänge an Wüsten‑Soundtrac
 ks und Farben aus dem Nahen Osten zu einem atmosphärischen\, filmisch wirk
 enden Bandsound. Die Stücke erzählen ohne Worte von Fernweh und Weite\, gl
 änzen mit raffiniertem Songwriting und einem virtuosen\, aber stets songdi
 enlichen Spiel\, das mehr auf Spannung und Intensität als auf blosses Zurs
 chaustellen von Technik setzt.\nIm Zentrum steht der argentinische Gitarri
 st und Komponist Luciano Ponzano\, dessen melodisches Spiel zwischen twang
 ender Surf‑Gitarre\, lyrischen Jazz‑Linien und folkloristischer Klangsprac
 he pendelt. Getragen wird er vom erdigen Bass von Gregory Schärer und dem 
 dynamischen und zugleich feinfühligen Schlagzeugspiel von Adrian Böckli\, 
 die der Musik den nötigen Drive und ein pulsierendes Fundament verpassen.
 \nLuciano Ponzano (g)\, Gregory Schärer (b)\, Adrian Böckli (dr)\nhttps://
 thehawkstriad.bandcamp.com/album/carnivale\nhttps://www.instagram.com/theh
 awkstriad/\nhttps://soundcloud.com/thehawkstriad
DTSTART:20260319T191500Z
DTEND:20260319T191500Z
GEO:00;0
LOCATION:
ORGANIZER:
SEQUENCE:1
SUMMARY:The Hawks Triad – «Orillas»
TRANSP:OPAQUE
URL:https://www.esse.bar/index.php/veranstaltungen/vergangene-veranstaltung
 en/2603-the-hawks-triad-2/2026-03-19-20-15?layout=vcal
END:VEVENT
END:VCALENDAR
